BEGIN:VCALENDAR
VERSION:2.0
PRODID:-//St. Nicholas - ECPv6.15.17.1//NONSGML v1.0//EN
CALSCALE:GREGORIAN
METHOD:PUBLISH
X-ORIGINAL-URL:https://stnicholasofallon.org
X-WR-CALDESC:Events for St. Nicholas
REFRESH-INTERVAL;VALUE=DURATION:PT1H
X-Robots-Tag:noindex
X-PUBLISHED-TTL:PT1H
BEGIN:VTIMEZONE
TZID:America/Chicago
BEGIN:DAYLIGHT
TZOFFSETFROM:-0600
TZOFFSETTO:-0500
TZNAME:CDT
DTSTART:20250309T080000
END:DAYLIGHT
BEGIN:STANDARD
TZOFFSETFROM:-0500
TZOFFSETTO:-0600
TZNAME:CST
DTSTART:20251102T070000
END:STANDARD
BEGIN:DAYLIGHT
TZOFFSETFROM:-0600
TZOFFSETTO:-0500
TZNAME:CDT
DTSTART:20260308T080000
END:DAYLIGHT
BEGIN:STANDARD
TZOFFSETFROM:-0500
TZOFFSETTO:-0600
TZNAME:CST
DTSTART:20261101T070000
END:STANDARD
BEGIN:DAYLIGHT
TZOFFSETFROM:-0600
TZOFFSETTO:-0500
TZNAME:CDT
DTSTART:20270314T080000
END:DAYLIGHT
BEGIN:STANDARD
TZOFFSETFROM:-0500
TZOFFSETTO:-0600
TZNAME:CST
DTSTART:20271107T070000
END:STANDARD
END:VTIMEZONE
BEGIN:VEVENT
DTSTART;VALUE=DATE:20260402
DTEND;VALUE=DATE:20260403
DTSTAMP:20260423T210320
CREATED:20260218T225311Z
LAST-MODIFIED:20260318T203800Z
UID:14775-1775088000-1775174399@stnicholasofallon.org
SUMMARY:Holy Thursday
DESCRIPTION:
URL:https://stnicholasofallon.org/event/holy-thursday/
END:VEVENT
BEGIN:VEVENT
DTSTART;TZID=America/Chicago:20260402T093000
DTEND;TZID=America/Chicago:20260402T103000
DTSTAMP:20260423T210320
CREATED:20260102T193811Z
LAST-MODIFIED:20260318T203800Z
UID:14370-1775122200-1775125800@stnicholasofallon.org
SUMMARY:Book Club
DESCRIPTION:
URL:https://stnicholasofallon.org/event/book-club-3/
END:VEVENT
BEGIN:VEVENT
DTSTART;TZID=America/Chicago:20260402T190000
DTEND;TZID=America/Chicago:20260402T200000
DTSTAMP:20260423T210320
CREATED:20260218T225311Z
LAST-MODIFIED:20260318T203800Z
UID:14774-1775156400-1775160000@stnicholasofallon.org
SUMMARY:Holy Thursday Mass
DESCRIPTION:
URL:https://stnicholasofallon.org/event/holy-thursday-mass/
END:VEVENT
END:VCALENDAR