BEGIN:VCALENDAR
VERSION:2.0
PRODID:-//St. Nicholas - ECPv6.15.17.1//NONSGML v1.0//EN
CALSCALE:GREGORIAN
METHOD:PUBLISH
X-WR-CALNAME:St. Nicholas
X-ORIGINAL-URL:https://stnicholasofallon.org
X-WR-CALDESC:Events for St. Nicholas
REFRESH-INTERVAL;VALUE=DURATION:PT1H
X-Robots-Tag:noindex
X-PUBLISHED-TTL:PT1H
BEGIN:VTIMEZONE
TZID:America/Chicago
BEGIN:DAYLIGHT
TZOFFSETFROM:-0600
TZOFFSETTO:-0500
TZNAME:CDT
DTSTART:20250309T080000
END:DAYLIGHT
BEGIN:STANDARD
TZOFFSETFROM:-0500
TZOFFSETTO:-0600
TZNAME:CST
DTSTART:20251102T070000
END:STANDARD
BEGIN:DAYLIGHT
TZOFFSETFROM:-0600
TZOFFSETTO:-0500
TZNAME:CDT
DTSTART:20260308T080000
END:DAYLIGHT
BEGIN:STANDARD
TZOFFSETFROM:-0500
TZOFFSETTO:-0600
TZNAME:CST
DTSTART:20261101T070000
END:STANDARD
BEGIN:DAYLIGHT
TZOFFSETFROM:-0600
TZOFFSETTO:-0500
TZNAME:CDT
DTSTART:20270314T080000
END:DAYLIGHT
BEGIN:STANDARD
TZOFFSETFROM:-0500
TZOFFSETTO:-0600
TZNAME:CST
DTSTART:20271107T070000
END:STANDARD
END:VTIMEZONE
BEGIN:VEVENT
DTSTART;TZID=America/Chicago:20260406T083000
DTEND;TZID=America/Chicago:20260406T093000
DTSTAMP:20260423T210140
CREATED:20260218T225312Z
LAST-MODIFIED:20260318T203801Z
UID:14780-1775464200-1775467800@stnicholasofallon.org
SUMMARY:Mass
DESCRIPTION:
URL:https://stnicholasofallon.org/event/mass-103/
END:VEVENT
BEGIN:VEVENT
DTSTART;TZID=America/Chicago:20260406T173000
DTEND;TZID=America/Chicago:20260406T183000
DTSTAMP:20260423T210140
CREATED:20260106T200809Z
LAST-MODIFIED:20260318T203801Z
UID:14398-1775496600-1775500200@stnicholasofallon.org
SUMMARY:St. Vincent de Paul Mtg
DESCRIPTION:
URL:https://stnicholasofallon.org/event/st-vincent-de-paul-mtg/
END:VEVENT
BEGIN:VEVENT
DTSTART;TZID=America/Chicago:20260406T183000
DTEND;TZID=America/Chicago:20260406T203000
DTSTAMP:20260423T210140
CREATED:20260106T200808Z
LAST-MODIFIED:20260318T203801Z
UID:14397-1775500200-1775507400@stnicholasofallon.org
SUMMARY:Men's Gathering
DESCRIPTION:
URL:https://stnicholasofallon.org/event/mens-gathering-2/
END:VEVENT
END:VCALENDAR