BEGIN:VCALENDAR
VERSION:2.0
PRODID:-//St. Nicholas - ECPv6.15.17.1//NONSGML v1.0//EN
CALSCALE:GREGORIAN
METHOD:PUBLISH
X-ORIGINAL-URL:https://stnicholasofallon.org
X-WR-CALDESC:Events for St. Nicholas
REFRESH-INTERVAL;VALUE=DURATION:PT1H
X-Robots-Tag:noindex
X-PUBLISHED-TTL:PT1H
BEGIN:VTIMEZONE
TZID:America/Chicago
BEGIN:DAYLIGHT
TZOFFSETFROM:-0600
TZOFFSETTO:-0500
TZNAME:CDT
DTSTART:20250309T080000
END:DAYLIGHT
BEGIN:STANDARD
TZOFFSETFROM:-0500
TZOFFSETTO:-0600
TZNAME:CST
DTSTART:20251102T070000
END:STANDARD
BEGIN:DAYLIGHT
TZOFFSETFROM:-0600
TZOFFSETTO:-0500
TZNAME:CDT
DTSTART:20260308T080000
END:DAYLIGHT
BEGIN:STANDARD
TZOFFSETFROM:-0500
TZOFFSETTO:-0600
TZNAME:CST
DTSTART:20261101T070000
END:STANDARD
BEGIN:DAYLIGHT
TZOFFSETFROM:-0600
TZOFFSETTO:-0500
TZNAME:CDT
DTSTART:20270314T080000
END:DAYLIGHT
BEGIN:STANDARD
TZOFFSETFROM:-0500
TZOFFSETTO:-0600
TZNAME:CST
DTSTART:20271107T070000
END:STANDARD
END:VTIMEZONE
BEGIN:VEVENT
DTSTART;TZID=America/Chicago:20260426T083000
DTEND;TZID=America/Chicago:20260426T093000
DTSTAMP:20260423T210347
CREATED:20260218T225315Z
LAST-MODIFIED:20260318T203804Z
UID:14796-1777192200-1777195800@stnicholasofallon.org
SUMMARY:Mass Live Stream
DESCRIPTION:on youtube
URL:https://stnicholasofallon.org/event/mass-live-stream-26/
END:VEVENT
BEGIN:VEVENT
DTSTART;TZID=America/Chicago:20260426T094500
DTEND;TZID=America/Chicago:20260426T104500
DTSTAMP:20260423T210347
CREATED:20260126T213810Z
LAST-MODIFIED:20260318T203804Z
UID:14519-1777196700-1777200300@stnicholasofallon.org
SUMMARY:Dialogue with The Word
DESCRIPTION:
URL:https://stnicholasofallon.org/event/dialogue-with-the-word/
END:VEVENT
BEGIN:VEVENT
DTSTART;TZID=America/Chicago:20260426T103000
DTEND;TZID=America/Chicago:20260426T113000
DTSTAMP:20260423T210347
CREATED:20260218T225315Z
LAST-MODIFIED:20260318T203804Z
UID:14797-1777199400-1777203000@stnicholasofallon.org
SUMMARY:Mass
DESCRIPTION:
URL:https://stnicholasofallon.org/event/mass-114/
END:VEVENT
BEGIN:VEVENT
DTSTART;TZID=America/Chicago:20260426T140000
DTEND;TZID=America/Chicago:20260426T170000
DTSTAMP:20260423T210347
CREATED:20260126T213810Z
LAST-MODIFIED:20260318T203804Z
UID:14521-1777212000-1777222800@stnicholasofallon.org
SUMMARY:Pickleball
DESCRIPTION:
URL:https://stnicholasofallon.org/event/pickleball/
END:VEVENT
BEGIN:VEVENT
DTSTART;TZID=America/Chicago:20260426T183000
DTEND;TZID=America/Chicago:20260426T193000
DTSTAMP:20260423T210347
CREATED:20260226T235320Z
LAST-MODIFIED:20260318T203804Z
UID:14957-1777228200-1777231800@stnicholasofallon.org
SUMMARY:High School Teen Ministry
DESCRIPTION:
URL:https://stnicholasofallon.org/event/high-school-teen-ministry-25/
END:VEVENT
END:VCALENDAR