BEGIN:VCALENDAR
VERSION:2.0
PRODID:-//St. Nicholas - ECPv6.15.17.1//NONSGML v1.0//EN
CALSCALE:GREGORIAN
METHOD:PUBLISH
X-ORIGINAL-URL:https://stnicholasofallon.org
X-WR-CALDESC:Events for St. Nicholas
REFRESH-INTERVAL;VALUE=DURATION:PT1H
X-Robots-Tag:noindex
X-PUBLISHED-TTL:PT1H
BEGIN:VTIMEZONE
TZID:America/Chicago
BEGIN:DAYLIGHT
TZOFFSETFROM:-0600
TZOFFSETTO:-0500
TZNAME:CDT
DTSTART:20250309T080000
END:DAYLIGHT
BEGIN:STANDARD
TZOFFSETFROM:-0500
TZOFFSETTO:-0600
TZNAME:CST
DTSTART:20251102T070000
END:STANDARD
BEGIN:DAYLIGHT
TZOFFSETFROM:-0600
TZOFFSETTO:-0500
TZNAME:CDT
DTSTART:20260308T080000
END:DAYLIGHT
BEGIN:STANDARD
TZOFFSETFROM:-0500
TZOFFSETTO:-0600
TZNAME:CST
DTSTART:20261101T070000
END:STANDARD
BEGIN:DAYLIGHT
TZOFFSETFROM:-0600
TZOFFSETTO:-0500
TZNAME:CDT
DTSTART:20270314T080000
END:DAYLIGHT
BEGIN:STANDARD
TZOFFSETFROM:-0500
TZOFFSETTO:-0600
TZNAME:CST
DTSTART:20271107T070000
END:STANDARD
END:VTIMEZONE
BEGIN:VEVENT
DTSTART;TZID=America/Chicago:20260520T151500
DTEND;TZID=America/Chicago:20260520T161500
DTSTAMP:20260423T224720
CREATED:20260219T230813Z
LAST-MODIFIED:20260318T203807Z
UID:14902-1779290100-1779293700@stnicholasofallon.org
SUMMARY:Children's Choir
DESCRIPTION:
URL:https://stnicholasofallon.org/event/childrens-choir-2/
END:VEVENT
BEGIN:VEVENT
DTSTART;TZID=America/Chicago:20260520T180000
DTEND;TZID=America/Chicago:20260520T190000
DTSTAMP:20260423T224720
CREATED:20260219T230813Z
LAST-MODIFIED:20260318T203807Z
UID:14903-1779300000-1779303600@stnicholasofallon.org
SUMMARY:Mass
DESCRIPTION:
URL:https://stnicholasofallon.org/event/mass/
END:VEVENT
END:VCALENDAR