BEGIN:VCALENDAR
VERSION:2.0
PRODID:-//St. Nicholas - ECPv6.15.17.1//NONSGML v1.0//EN
CALSCALE:GREGORIAN
METHOD:PUBLISH
X-WR-CALNAME:St. Nicholas
X-ORIGINAL-URL:https://stnicholasofallon.org
X-WR-CALDESC:Events for St. Nicholas
REFRESH-INTERVAL;VALUE=DURATION:PT1H
X-Robots-Tag:noindex
X-PUBLISHED-TTL:PT1H
BEGIN:VTIMEZONE
TZID:America/Chicago
BEGIN:DAYLIGHT
TZOFFSETFROM:-0600
TZOFFSETTO:-0500
TZNAME:CDT
DTSTART:20250309T080000
END:DAYLIGHT
BEGIN:STANDARD
TZOFFSETFROM:-0500
TZOFFSETTO:-0600
TZNAME:CST
DTSTART:20251102T070000
END:STANDARD
BEGIN:DAYLIGHT
TZOFFSETFROM:-0600
TZOFFSETTO:-0500
TZNAME:CDT
DTSTART:20260308T080000
END:DAYLIGHT
BEGIN:STANDARD
TZOFFSETFROM:-0500
TZOFFSETTO:-0600
TZNAME:CST
DTSTART:20261101T070000
END:STANDARD
BEGIN:DAYLIGHT
TZOFFSETFROM:-0600
TZOFFSETTO:-0500
TZNAME:CDT
DTSTART:20270314T080000
END:DAYLIGHT
BEGIN:STANDARD
TZOFFSETFROM:-0500
TZOFFSETTO:-0600
TZNAME:CST
DTSTART:20271107T070000
END:STANDARD
END:VTIMEZONE
BEGIN:VEVENT
DTSTART;TZID=America/Chicago:20260524T083000
DTEND;TZID=America/Chicago:20260524T093000
DTSTAMP:20260423T224556
CREATED:20260223T235313Z
LAST-MODIFIED:20260318T203807Z
UID:14920-1779611400-1779615000@stnicholasofallon.org
SUMMARY:Mass Live Stream
DESCRIPTION:on youtube
URL:https://stnicholasofallon.org/event/mass-live-stream/
END:VEVENT
BEGIN:VEVENT
DTSTART;TZID=America/Chicago:20260524T094500
DTEND;TZID=America/Chicago:20260524T104500
DTSTAMP:20260423T224556
CREATED:20260223T235313Z
LAST-MODIFIED:20260318T203807Z
UID:14922-1779615900-1779619500@stnicholasofallon.org
SUMMARY:Dialogue with The Word
DESCRIPTION:
URL:https://stnicholasofallon.org/event/dialogue-with-the-word-5/
END:VEVENT
BEGIN:VEVENT
DTSTART;TZID=America/Chicago:20260524T103000
DTEND;TZID=America/Chicago:20260524T113000
DTSTAMP:20260423T224556
CREATED:20260223T235313Z
LAST-MODIFIED:20260318T203807Z
UID:14921-1779618600-1779622200@stnicholasofallon.org
SUMMARY:Mass
DESCRIPTION:
URL:https://stnicholasofallon.org/event/mass-4/
END:VEVENT
BEGIN:VEVENT
DTSTART;TZID=America/Chicago:20260524T140000
DTEND;TZID=America/Chicago:20260524T170000
DTSTAMP:20260423T224556
CREATED:20260223T235314Z
LAST-MODIFIED:20260318T203807Z
UID:14923-1779631200-1779642000@stnicholasofallon.org
SUMMARY:Pickleball
DESCRIPTION:
URL:https://stnicholasofallon.org/event/pickleball-11/
END:VEVENT
BEGIN:VEVENT
DTSTART;TZID=America/Chicago:20260524T183000
DTEND;TZID=America/Chicago:20260524T193000
DTSTAMP:20260423T224556
CREATED:20260226T235325Z
LAST-MODIFIED:20260318T203807Z
UID:14961-1779647400-1779651000@stnicholasofallon.org
SUMMARY:High School Teen Ministry
DESCRIPTION:
URL:https://stnicholasofallon.org/event/high-school-teen-ministry-29/
END:VEVENT
END:VCALENDAR