BEGIN:VCALENDAR
VERSION:2.0
PRODID:-//St. Nicholas - ECPv6.15.17.1//NONSGML v1.0//EN
CALSCALE:GREGORIAN
METHOD:PUBLISH
X-WR-CALNAME:St. Nicholas
X-ORIGINAL-URL:https://stnicholasofallon.org
X-WR-CALDESC:Events for St. Nicholas
REFRESH-INTERVAL;VALUE=DURATION:PT1H
X-Robots-Tag:noindex
X-PUBLISHED-TTL:PT1H
BEGIN:VTIMEZONE
TZID:America/Chicago
BEGIN:DAYLIGHT
TZOFFSETFROM:-0600
TZOFFSETTO:-0500
TZNAME:CDT
DTSTART:20250309T080000
END:DAYLIGHT
BEGIN:STANDARD
TZOFFSETFROM:-0500
TZOFFSETTO:-0600
TZNAME:CST
DTSTART:20251102T070000
END:STANDARD
BEGIN:DAYLIGHT
TZOFFSETFROM:-0600
TZOFFSETTO:-0500
TZNAME:CDT
DTSTART:20260308T080000
END:DAYLIGHT
BEGIN:STANDARD
TZOFFSETFROM:-0500
TZOFFSETTO:-0600
TZNAME:CST
DTSTART:20261101T070000
END:STANDARD
BEGIN:DAYLIGHT
TZOFFSETFROM:-0600
TZOFFSETTO:-0500
TZNAME:CDT
DTSTART:20270314T080000
END:DAYLIGHT
BEGIN:STANDARD
TZOFFSETFROM:-0500
TZOFFSETTO:-0600
TZNAME:CST
DTSTART:20271107T070000
END:STANDARD
END:VTIMEZONE
BEGIN:VEVENT
DTSTART;TZID=America/Chicago:20260323T190000
DTEND;TZID=America/Chicago:20260323T200000
DTSTAMP:20260423T225242
CREATED:20260226T235315Z
LAST-MODIFIED:20260318T203759Z
UID:14949-1774292400-1774296000@stnicholasofallon.org
SUMMARY:Parish Council
DESCRIPTION:
URL:https://stnicholasofallon.org/event/parish-council-6/
END:VEVENT
BEGIN:VEVENT
DTSTART;TZID=America/Chicago:20260324T081500
DTEND;TZID=America/Chicago:20260324T091500
DTSTAMP:20260423T225242
CREATED:20251224T193813Z
LAST-MODIFIED:20260318T203759Z
UID:14288-1774340100-1774343700@stnicholasofallon.org
SUMMARY:Mass at St. Clare School
DESCRIPTION:
URL:https://stnicholasofallon.org/event/mass-at-st-clare-school-12/
END:VEVENT
BEGIN:VEVENT
DTSTART;TZID=America/Chicago:20260324T180000
DTEND;TZID=America/Chicago:20260324T200000
DTSTAMP:20260423T225242
CREATED:20251224T193813Z
LAST-MODIFIED:20260318T203759Z
UID:14289-1774375200-1774382400@stnicholasofallon.org
SUMMARY:Pickleball
DESCRIPTION:
URL:https://stnicholasofallon.org/event/pickleball-18/
END:VEVENT
BEGIN:VEVENT
DTSTART;TZID=America/Chicago:20260324T190000
DTEND;TZID=America/Chicago:20260324T200000
DTSTAMP:20260423T225242
CREATED:20251225T193808Z
LAST-MODIFIED:20260318T203759Z
UID:14294-1774378800-1774382400@stnicholasofallon.org
SUMMARY:Parish Choir
DESCRIPTION:
URL:https://stnicholasofallon.org/event/parish-choir-13/
END:VEVENT
BEGIN:VEVENT
DTSTART;TZID=America/Chicago:20260325T083000
DTEND;TZID=America/Chicago:20260325T093000
DTSTAMP:20260423T225242
CREATED:20260218T225310Z
LAST-MODIFIED:20260318T203759Z
UID:14764-1774427400-1774431000@stnicholasofallon.org
SUMMARY:Mass
DESCRIPTION:
URL:https://stnicholasofallon.org/event/mass-83/
END:VEVENT
BEGIN:VEVENT
DTSTART;TZID=America/Chicago:20260325T151500
DTEND;TZID=America/Chicago:20260325T161500
DTSTAMP:20260423T225242
CREATED:20251225T193808Z
LAST-MODIFIED:20260318T203759Z
UID:14296-1774451700-1774455300@stnicholasofallon.org
SUMMARY:Children's Choir
DESCRIPTION:
URL:https://stnicholasofallon.org/event/childrens-choir-12/
END:VEVENT
BEGIN:VEVENT
DTSTART;TZID=America/Chicago:20260325T190000
DTEND;TZID=America/Chicago:20260325T200000
DTSTAMP:20260423T225242
CREATED:20260218T225310Z
LAST-MODIFIED:20260318T203759Z
UID:14765-1774465200-1774468800@stnicholasofallon.org
SUMMARY:Lenten Reconciliation
DESCRIPTION:
URL:https://stnicholasofallon.org/event/lenten-reconciliation/
END:VEVENT
BEGIN:VEVENT
DTSTART;TZID=America/Chicago:20260327T083000
DTEND;TZID=America/Chicago:20260327T093000
DTSTAMP:20260423T225242
CREATED:20260218T225310Z
LAST-MODIFIED:20260318T203759Z
UID:14767-1774600200-1774603800@stnicholasofallon.org
SUMMARY:Mass
DESCRIPTION:
URL:https://stnicholasofallon.org/event/mass-99/
END:VEVENT
BEGIN:VEVENT
DTSTART;TZID=America/Chicago:20260327T090000
DTEND;TZID=America/Chicago:20260327T180000
DTSTAMP:20260423T225242
CREATED:20260218T225310Z
LAST-MODIFIED:20260318T203759Z
UID:14766-1774602000-1774634400@stnicholasofallon.org
SUMMARY:Holy Adoration
DESCRIPTION:
URL:https://stnicholasofallon.org/event/holy-adoration-8/
END:VEVENT
BEGIN:VEVENT
DTSTART;TZID=America/Chicago:20260327T183000
DTEND;TZID=America/Chicago:20260327T193000
DTSTAMP:20260423T225242
CREATED:20260218T225310Z
LAST-MODIFIED:20260318T203759Z
UID:14768-1774636200-1774639800@stnicholasofallon.org
SUMMARY:Stations of the Cross
DESCRIPTION:
URL:https://stnicholasofallon.org/event/stations-of-the-cross-5/
END:VEVENT
BEGIN:VEVENT
DTSTART;TZID=America/Chicago:20260327T190000
DTEND;TZID=America/Chicago:20260327T200000
DTSTAMP:20260423T225242
CREATED:20260226T235316Z
LAST-MODIFIED:20260318T203800Z
UID:14950-1774638000-1774641600@stnicholasofallon.org
SUMMARY:Bunco
DESCRIPTION:
URL:https://stnicholasofallon.org/event/bunco/
END:VEVENT
BEGIN:VEVENT
DTSTART;VALUE=DATE:20260328
DTEND;VALUE=DATE:20260329
DTSTAMP:20260423T225242
CREATED:20260226T235316Z
LAST-MODIFIED:20260318T203759Z
UID:14953-1774656000-1774742399@stnicholasofallon.org
SUMMARY:Palm Sunday
DESCRIPTION:
URL:https://stnicholasofallon.org/event/palm-sunday-2/
END:VEVENT
BEGIN:VEVENT
DTSTART;TZID=America/Chicago:20260328T150000
DTEND;TZID=America/Chicago:20260328T160000
DTSTAMP:20260423T225242
CREATED:20260128T215307Z
LAST-MODIFIED:20260318T203800Z
UID:14560-1774710000-1774713600@stnicholasofallon.org
SUMMARY:Confession
DESCRIPTION:
URL:https://stnicholasofallon.org/event/confession-27/
END:VEVENT
BEGIN:VEVENT
DTSTART;TZID=America/Chicago:20260328T163000
DTEND;TZID=America/Chicago:20260328T173000
DTSTAMP:20260423T225242
CREATED:20260128T215308Z
LAST-MODIFIED:20260318T203800Z
UID:14561-1774715400-1774719000@stnicholasofallon.org
SUMMARY:Mass
DESCRIPTION:
URL:https://stnicholasofallon.org/event/mass-94/
END:VEVENT
BEGIN:VEVENT
DTSTART;VALUE=DATE:20260329
DTEND;VALUE=DATE:20260330
DTSTAMP:20260423T225242
CREATED:20260226T235316Z
LAST-MODIFIED:20260318T203800Z
UID:14952-1774742400-1774828799@stnicholasofallon.org
SUMMARY:Palm Sunday
DESCRIPTION:
URL:https://stnicholasofallon.org/event/palm-sunday/
END:VEVENT
BEGIN:VEVENT
DTSTART;TZID=America/Chicago:20260329T083000
DTEND;TZID=America/Chicago:20260329T093000
DTSTAMP:20260423T225242
CREATED:20260218T225310Z
LAST-MODIFIED:20260318T203800Z
UID:14769-1774773000-1774776600@stnicholasofallon.org
SUMMARY:Mass Live Stream
DESCRIPTION:on youtube
URL:https://stnicholasofallon.org/event/mass-live-stream-22/
END:VEVENT
BEGIN:VEVENT
DTSTART;TZID=America/Chicago:20260329T094500
DTEND;TZID=America/Chicago:20260329T104500
DTSTAMP:20260423T225242
CREATED:20251229T193823Z
LAST-MODIFIED:20260318T203800Z
UID:14312-1774777500-1774781100@stnicholasofallon.org
SUMMARY:Dialogue with The Word
DESCRIPTION:
URL:https://stnicholasofallon.org/event/dialogue-with-the-word-9/
END:VEVENT
BEGIN:VEVENT
DTSTART;TZID=America/Chicago:20260329T103000
DTEND;TZID=America/Chicago:20260329T113000
DTSTAMP:20260423T225242
CREATED:20260218T225310Z
LAST-MODIFIED:20260318T203800Z
UID:14770-1774780200-1774783800@stnicholasofallon.org
SUMMARY:Mass
DESCRIPTION:
URL:https://stnicholasofallon.org/event/mass-100/
END:VEVENT
BEGIN:VEVENT
DTSTART;TZID=America/Chicago:20260329T140000
DTEND;TZID=America/Chicago:20260329T170000
DTSTAMP:20260423T225242
CREATED:20251229T193823Z
LAST-MODIFIED:20260318T203800Z
UID:14314-1774792800-1774803600@stnicholasofallon.org
SUMMARY:Pickleball
DESCRIPTION:
URL:https://stnicholasofallon.org/event/pickleball-19/
END:VEVENT
BEGIN:VEVENT
DTSTART;TZID=America/Chicago:20260329T183000
DTEND;TZID=America/Chicago:20260329T193000
DTSTAMP:20260423T225242
CREATED:20260226T235316Z
LAST-MODIFIED:20260318T203800Z
UID:14951-1774809000-1774812600@stnicholasofallon.org
SUMMARY:High School Teen Ministry
DESCRIPTION:
URL:https://stnicholasofallon.org/event/high-school-teen-ministry-21/
END:VEVENT
BEGIN:VEVENT
DTSTART;TZID=America/Chicago:20260330T083000
DTEND;TZID=America/Chicago:20260330T093000
DTSTAMP:20260423T225242
CREATED:20260218T225310Z
LAST-MODIFIED:20260318T203800Z
UID:14771-1774859400-1774863000@stnicholasofallon.org
SUMMARY:Mass
DESCRIPTION:
URL:https://stnicholasofallon.org/event/mass-101/
END:VEVENT
BEGIN:VEVENT
DTSTART;TZID=America/Chicago:20260331T180000
DTEND;TZID=America/Chicago:20260331T200000
DTSTAMP:20260423T225242
CREATED:20251231T193812Z
LAST-MODIFIED:20260318T203800Z
UID:14348-1774980000-1774987200@stnicholasofallon.org
SUMMARY:Pickleball
DESCRIPTION:
URL:https://stnicholasofallon.org/event/pickleball-36/
END:VEVENT
BEGIN:VEVENT
DTSTART;TZID=America/Chicago:20260401T084500
DTEND;TZID=America/Chicago:20260401T094500
DTSTAMP:20260423T225242
CREATED:20260218T225311Z
LAST-MODIFIED:20260318T203800Z
UID:14773-1775033100-1775036700@stnicholasofallon.org
SUMMARY:Mass-note time change
DESCRIPTION:
URL:https://stnicholasofallon.org/event/mass-note-time-change/
END:VEVENT
BEGIN:VEVENT
DTSTART;TZID=America/Chicago:20260401T151500
DTEND;TZID=America/Chicago:20260401T161500
DTSTAMP:20260423T225242
CREATED:20260101T193809Z
LAST-MODIFIED:20260318T203800Z
UID:14365-1775056500-1775060100@stnicholasofallon.org
SUMMARY:Children's Choir
DESCRIPTION:
URL:https://stnicholasofallon.org/event/childrens-choir/
END:VEVENT
BEGIN:VEVENT
DTSTART;VALUE=DATE:20260402
DTEND;VALUE=DATE:20260403
DTSTAMP:20260423T225242
CREATED:20260218T225311Z
LAST-MODIFIED:20260318T203800Z
UID:14775-1775088000-1775174399@stnicholasofallon.org
SUMMARY:Holy Thursday
DESCRIPTION:
URL:https://stnicholasofallon.org/event/holy-thursday/
END:VEVENT
BEGIN:VEVENT
DTSTART;TZID=America/Chicago:20260402T093000
DTEND;TZID=America/Chicago:20260402T103000
DTSTAMP:20260423T225242
CREATED:20260102T193811Z
LAST-MODIFIED:20260318T203800Z
UID:14370-1775122200-1775125800@stnicholasofallon.org
SUMMARY:Book Club
DESCRIPTION:
URL:https://stnicholasofallon.org/event/book-club-3/
END:VEVENT
BEGIN:VEVENT
DTSTART;TZID=America/Chicago:20260402T190000
DTEND;TZID=America/Chicago:20260402T200000
DTSTAMP:20260423T225242
CREATED:20260218T225311Z
LAST-MODIFIED:20260318T203800Z
UID:14774-1775156400-1775160000@stnicholasofallon.org
SUMMARY:Holy Thursday Mass
DESCRIPTION:
URL:https://stnicholasofallon.org/event/holy-thursday-mass/
END:VEVENT
BEGIN:VEVENT
DTSTART;VALUE=DATE:20260403
DTEND;VALUE=DATE:20260404
DTSTAMP:20260423T225242
CREATED:20260218T225311Z
LAST-MODIFIED:20260318T203800Z
UID:14777-1775174400-1775260799@stnicholasofallon.org
SUMMARY:Good Friday
DESCRIPTION:
URL:https://stnicholasofallon.org/event/good-friday/
END:VEVENT
BEGIN:VEVENT
DTSTART;TZID=America/Chicago:20260403T093000
DTEND;TZID=America/Chicago:20260403T103000
DTSTAMP:20260423T225242
CREATED:20260316T202304Z
LAST-MODIFIED:20260318T203800Z
UID:15094-1775208600-1775212200@stnicholasofallon.org
SUMMARY:Get nails done
DESCRIPTION:
URL:https://stnicholasofallon.org/event/get-nails-done/
END:VEVENT
BEGIN:VEVENT
DTSTART;TZID=America/Chicago:20260403T150000
DTEND;TZID=America/Chicago:20260403T160000
DTSTAMP:20260423T225242
CREATED:20260218T225311Z
LAST-MODIFIED:20260318T203801Z
UID:14776-1775228400-1775232000@stnicholasofallon.org
SUMMARY:Celebration of the Lord's Passion
DESCRIPTION:
URL:https://stnicholasofallon.org/event/celebration-of-the-lords-passion/
END:VEVENT
END:VCALENDAR