BEGIN:VCALENDAR
VERSION:2.0
PRODID:-//St. Nicholas - ECPv6.15.17.1//NONSGML v1.0//EN
CALSCALE:GREGORIAN
METHOD:PUBLISH
X-WR-CALNAME:St. Nicholas
X-ORIGINAL-URL:https://stnicholasofallon.org
X-WR-CALDESC:Events for St. Nicholas
REFRESH-INTERVAL;VALUE=DURATION:PT1H
X-Robots-Tag:noindex
X-PUBLISHED-TTL:PT1H
BEGIN:VTIMEZONE
TZID:America/Chicago
BEGIN:DAYLIGHT
TZOFFSETFROM:-0600
TZOFFSETTO:-0500
TZNAME:CDT
DTSTART:20250309T080000
END:DAYLIGHT
BEGIN:STANDARD
TZOFFSETFROM:-0500
TZOFFSETTO:-0600
TZNAME:CST
DTSTART:20251102T070000
END:STANDARD
BEGIN:DAYLIGHT
TZOFFSETFROM:-0600
TZOFFSETTO:-0500
TZNAME:CDT
DTSTART:20260308T080000
END:DAYLIGHT
BEGIN:STANDARD
TZOFFSETFROM:-0500
TZOFFSETTO:-0600
TZNAME:CST
DTSTART:20261101T070000
END:STANDARD
BEGIN:DAYLIGHT
TZOFFSETFROM:-0600
TZOFFSETTO:-0500
TZNAME:CDT
DTSTART:20270314T080000
END:DAYLIGHT
BEGIN:STANDARD
TZOFFSETFROM:-0500
TZOFFSETTO:-0600
TZNAME:CST
DTSTART:20271107T070000
END:STANDARD
END:VTIMEZONE
BEGIN:VEVENT
DTSTART;TZID=America/Chicago:20260501T183000
DTEND;TZID=America/Chicago:20260501T193000
DTSTAMP:20260423T225243
CREATED:20260218T225316Z
LAST-MODIFIED:20260318T203804Z
UID:14801-1777660200-1777663800@stnicholasofallon.org
SUMMARY:Stations of the Cross
DESCRIPTION:
URL:https://stnicholasofallon.org/event/stations-of-the-cross-9/
END:VEVENT
BEGIN:VEVENT
DTSTART;TZID=America/Chicago:20260502T150000
DTEND;TZID=America/Chicago:20260502T160000
DTSTAMP:20260423T225243
CREATED:20260201T220821Z
LAST-MODIFIED:20260318T203804Z
UID:14628-1777734000-1777737600@stnicholasofallon.org
SUMMARY:Confession
DESCRIPTION:
URL:https://stnicholasofallon.org/event/confession-12/
END:VEVENT
BEGIN:VEVENT
DTSTART;TZID=America/Chicago:20260502T163000
DTEND;TZID=America/Chicago:20260502T173000
DTSTAMP:20260423T225243
CREATED:20260201T220821Z
LAST-MODIFIED:20260318T203804Z
UID:14629-1777739400-1777743000@stnicholasofallon.org
SUMMARY:Mass
DESCRIPTION:
URL:https://stnicholasofallon.org/event/mass-7/
END:VEVENT
BEGIN:VEVENT
DTSTART;TZID=America/Chicago:20260503T083000
DTEND;TZID=America/Chicago:20260503T093000
DTSTAMP:20260423T225243
CREATED:20260218T225316Z
LAST-MODIFIED:20260318T203804Z
UID:14802-1777797000-1777800600@stnicholasofallon.org
SUMMARY:Mass Live Stream
DESCRIPTION:on youtube
URL:https://stnicholasofallon.org/event/mass-live-stream-27/
END:VEVENT
BEGIN:VEVENT
DTSTART;TZID=America/Chicago:20260503T094500
DTEND;TZID=America/Chicago:20260503T104500
DTSTAMP:20260423T225243
CREATED:20260202T220817Z
LAST-MODIFIED:20260318T203804Z
UID:14634-1777801500-1777805100@stnicholasofallon.org
SUMMARY:Dialogue with The Word
DESCRIPTION:
URL:https://stnicholasofallon.org/event/dialogue-with-the-word-2/
END:VEVENT
BEGIN:VEVENT
DTSTART;TZID=America/Chicago:20260503T103000
DTEND;TZID=America/Chicago:20260503T113000
DTSTAMP:20260423T225243
CREATED:20260218T225316Z
LAST-MODIFIED:20260318T203804Z
UID:14803-1777804200-1777807800@stnicholasofallon.org
SUMMARY:Mass
DESCRIPTION:
URL:https://stnicholasofallon.org/event/mass-118/
END:VEVENT
BEGIN:VEVENT
DTSTART;TZID=America/Chicago:20260503T140000
DTEND;TZID=America/Chicago:20260503T170000
DTSTAMP:20260423T225243
CREATED:20260202T220817Z
LAST-MODIFIED:20260318T203804Z
UID:14636-1777816800-1777827600@stnicholasofallon.org
SUMMARY:Pickleball
DESCRIPTION:
URL:https://stnicholasofallon.org/event/pickleball-4/
END:VEVENT
BEGIN:VEVENT
DTSTART;TZID=America/Chicago:20260503T183000
DTEND;TZID=America/Chicago:20260503T193000
DTSTAMP:20260423T225243
CREATED:20260226T235321Z
LAST-MODIFIED:20260318T203804Z
UID:14958-1777833000-1777836600@stnicholasofallon.org
SUMMARY:High School Teen Ministry
DESCRIPTION:
URL:https://stnicholasofallon.org/event/high-school-teen-ministry-26/
END:VEVENT
BEGIN:VEVENT
DTSTART;TZID=America/Chicago:20260504T083000
DTEND;TZID=America/Chicago:20260504T093000
DTSTAMP:20260423T225243
CREATED:20260218T225316Z
LAST-MODIFIED:20260318T203805Z
UID:14804-1777883400-1777887000@stnicholasofallon.org
SUMMARY:Mass
DESCRIPTION:
URL:https://stnicholasofallon.org/event/mass-119/
END:VEVENT
BEGIN:VEVENT
DTSTART;TZID=America/Chicago:20260504T173000
DTEND;TZID=America/Chicago:20260504T183000
DTSTAMP:20260423T225243
CREATED:20260203T222318Z
LAST-MODIFIED:20260318T203805Z
UID:14645-1777915800-1777919400@stnicholasofallon.org
SUMMARY:St. Vincent de Paul Mtg
DESCRIPTION:
URL:https://stnicholasofallon.org/event/st-vincent-de-paul-mtg-3/
END:VEVENT
BEGIN:VEVENT
DTSTART;TZID=America/Chicago:20260504T183000
DTEND;TZID=America/Chicago:20260504T203000
DTSTAMP:20260423T225243
CREATED:20260203T222318Z
LAST-MODIFIED:20260318T203805Z
UID:14646-1777919400-1777926600@stnicholasofallon.org
SUMMARY:Men's Gathering
DESCRIPTION:
URL:https://stnicholasofallon.org/event/mens-gathering-5/
END:VEVENT
BEGIN:VEVENT
DTSTART;TZID=America/Chicago:20260505T081500
DTEND;TZID=America/Chicago:20260505T091500
DTSTAMP:20260423T225243
CREATED:20260204T222312Z
LAST-MODIFIED:20260318T203805Z
UID:14651-1777968900-1777972500@stnicholasofallon.org
SUMMARY:Mass at St. Clare School
DESCRIPTION:
URL:https://stnicholasofallon.org/event/mass-at-st-clare-school-7/
END:VEVENT
BEGIN:VEVENT
DTSTART;TZID=America/Chicago:20260505T180000
DTEND;TZID=America/Chicago:20260505T200000
DTSTAMP:20260423T225243
CREATED:20260204T222312Z
LAST-MODIFIED:20260318T203805Z
UID:14652-1778004000-1778011200@stnicholasofallon.org
SUMMARY:Pickleball
DESCRIPTION:
URL:https://stnicholasofallon.org/event/pickleball-6/
END:VEVENT
BEGIN:VEVENT
DTSTART;TZID=America/Chicago:20260505T190000
DTEND;TZID=America/Chicago:20260505T200000
DTSTAMP:20260423T225243
CREATED:20260205T222313Z
LAST-MODIFIED:20260318T203805Z
UID:14656-1778007600-1778011200@stnicholasofallon.org
SUMMARY:Parish Choir
DESCRIPTION:
URL:https://stnicholasofallon.org/event/parish-choir-18/
END:VEVENT
BEGIN:VEVENT
DTSTART;TZID=America/Chicago:20260506T151500
DTEND;TZID=America/Chicago:20260506T161500
DTSTAMP:20260423T225243
CREATED:20260205T222313Z
LAST-MODIFIED:20260318T203805Z
UID:14658-1778080500-1778084100@stnicholasofallon.org
SUMMARY:Children's Choir
DESCRIPTION:
URL:https://stnicholasofallon.org/event/childrens-choir-16/
END:VEVENT
BEGIN:VEVENT
DTSTART;TZID=America/Chicago:20260506T180000
DTEND;TZID=America/Chicago:20260506T190000
DTSTAMP:20260423T225243
CREATED:20260218T225317Z
LAST-MODIFIED:20260318T203805Z
UID:14805-1778090400-1778094000@stnicholasofallon.org
SUMMARY:Mass
DESCRIPTION:
URL:https://stnicholasofallon.org/event/mass-120/
END:VEVENT
BEGIN:VEVENT
DTSTART;TZID=America/Chicago:20260507T093000
DTEND;TZID=America/Chicago:20260507T103000
DTSTAMP:20260423T225243
CREATED:20260206T223844Z
LAST-MODIFIED:20260318T203805Z
UID:14664-1778146200-1778149800@stnicholasofallon.org
SUMMARY:Book Club
DESCRIPTION:
URL:https://stnicholasofallon.org/event/book-club-4/
END:VEVENT
BEGIN:VEVENT
DTSTART;TZID=America/Chicago:20260508T083000
DTEND;TZID=America/Chicago:20260508T093000
DTSTAMP:20260423T225243
CREATED:20260218T225317Z
LAST-MODIFIED:20260318T203805Z
UID:14806-1778229000-1778232600@stnicholasofallon.org
SUMMARY:Mass
DESCRIPTION:
URL:https://stnicholasofallon.org/event/mass-121/
END:VEVENT
BEGIN:VEVENT
DTSTART;TZID=America/Chicago:20260508T183000
DTEND;TZID=America/Chicago:20260508T193000
DTSTAMP:20260423T225243
CREATED:20260218T225317Z
LAST-MODIFIED:20260318T203805Z
UID:14807-1778265000-1778268600@stnicholasofallon.org
SUMMARY:Stations of the Cross
DESCRIPTION:
URL:https://stnicholasofallon.org/event/stations-of-the-cross-10/
END:VEVENT
BEGIN:VEVENT
DTSTART;TZID=America/Chicago:20260509T150000
DTEND;TZID=America/Chicago:20260509T160000
DTSTAMP:20260423T225243
CREATED:20260208T223842Z
LAST-MODIFIED:20260318T203805Z
UID:14670-1778338800-1778342400@stnicholasofallon.org
SUMMARY:Confession
DESCRIPTION:
URL:https://stnicholasofallon.org/event/confession-3/
END:VEVENT
BEGIN:VEVENT
DTSTART;TZID=America/Chicago:20260509T163000
DTEND;TZID=America/Chicago:20260509T173000
DTSTAMP:20260423T225243
CREATED:20260208T223842Z
LAST-MODIFIED:20260318T203805Z
UID:14671-1778344200-1778347800@stnicholasofallon.org
SUMMARY:Mass
DESCRIPTION:
URL:https://stnicholasofallon.org/event/mass-13/
END:VEVENT
BEGIN:VEVENT
DTSTART;TZID=America/Chicago:20260510T083000
DTEND;TZID=America/Chicago:20260510T093000
DTSTAMP:20260423T225243
CREATED:20260218T225317Z
LAST-MODIFIED:20260318T203805Z
UID:14808-1778401800-1778405400@stnicholasofallon.org
SUMMARY:Mass Live Stream
DESCRIPTION:on youtube
URL:https://stnicholasofallon.org/event/mass-live-stream-28/
END:VEVENT
BEGIN:VEVENT
DTSTART;TZID=America/Chicago:20260510T094500
DTEND;TZID=America/Chicago:20260510T104500
DTSTAMP:20260423T225243
CREATED:20260209T223811Z
LAST-MODIFIED:20260318T203805Z
UID:14678-1778406300-1778409900@stnicholasofallon.org
SUMMARY:Dialogue with The Word
DESCRIPTION:
URL:https://stnicholasofallon.org/event/dialogue-with-the-word-3/
END:VEVENT
BEGIN:VEVENT
DTSTART;TZID=America/Chicago:20260510T103000
DTEND;TZID=America/Chicago:20260510T113000
DTSTAMP:20260423T225243
CREATED:20260218T225317Z
LAST-MODIFIED:20260318T203805Z
UID:14809-1778409000-1778412600@stnicholasofallon.org
SUMMARY:Mass
DESCRIPTION:
URL:https://stnicholasofallon.org/event/mass-122/
END:VEVENT
BEGIN:VEVENT
DTSTART;TZID=America/Chicago:20260510T140000
DTEND;TZID=America/Chicago:20260510T170000
DTSTAMP:20260423T225243
CREATED:20260209T223811Z
LAST-MODIFIED:20260318T203805Z
UID:14679-1778421600-1778432400@stnicholasofallon.org
SUMMARY:Pickleball
DESCRIPTION:
URL:https://stnicholasofallon.org/event/pickleball-7/
END:VEVENT
BEGIN:VEVENT
DTSTART;TZID=America/Chicago:20260510T183000
DTEND;TZID=America/Chicago:20260510T193000
DTSTAMP:20260423T225243
CREATED:20260226T235322Z
LAST-MODIFIED:20260318T203805Z
UID:14959-1778437800-1778441400@stnicholasofallon.org
SUMMARY:High School Teen Ministry
DESCRIPTION:
URL:https://stnicholasofallon.org/event/high-school-teen-ministry-27/
END:VEVENT
BEGIN:VEVENT
DTSTART;TZID=America/Chicago:20260511T083000
DTEND;TZID=America/Chicago:20260511T093000
DTSTAMP:20260423T225243
CREATED:20260218T225317Z
LAST-MODIFIED:20260318T203805Z
UID:14810-1778488200-1778491800@stnicholasofallon.org
SUMMARY:Mass
DESCRIPTION:
URL:https://stnicholasofallon.org/event/mass-123/
END:VEVENT
BEGIN:VEVENT
DTSTART;TZID=America/Chicago:20260511T173000
DTEND;TZID=America/Chicago:20260511T183000
DTSTAMP:20260423T225243
CREATED:20260210T223826Z
LAST-MODIFIED:20260318T203806Z
UID:14689-1778520600-1778524200@stnicholasofallon.org
SUMMARY:St. Vincent de Paul
DESCRIPTION:
URL:https://stnicholasofallon.org/event/st-vincent-de-paul/
END:VEVENT
BEGIN:VEVENT
DTSTART;TZID=America/Chicago:20260511T180000
DTEND;TZID=America/Chicago:20260511T210000
DTSTAMP:20260423T225243
CREATED:20260210T223826Z
LAST-MODIFIED:20260318T203806Z
UID:14688-1778522400-1778533200@stnicholasofallon.org
SUMMARY:Yesterday's Kids
DESCRIPTION:
URL:https://stnicholasofallon.org/event/yesterdays-kids-5/
END:VEVENT
BEGIN:VEVENT
DTSTART;TZID=America/Chicago:20260512T081500
DTEND;TZID=America/Chicago:20260512T091500
DTSTAMP:20260423T225243
CREATED:20260211T223809Z
LAST-MODIFIED:20260318T203806Z
UID:14704-1778573700-1778577300@stnicholasofallon.org
SUMMARY:Mass at St. Clare School
DESCRIPTION:
URL:https://stnicholasofallon.org/event/mass-at-st-clare-school-8/
END:VEVENT
END:VCALENDAR