BEGIN:VCALENDAR
VERSION:2.0
PRODID:-//St. Nicholas - ECPv6.15.17.1//NONSGML v1.0//EN
CALSCALE:GREGORIAN
METHOD:PUBLISH
X-ORIGINAL-URL:https://stnicholasofallon.org
X-WR-CALDESC:Events for St. Nicholas
REFRESH-INTERVAL;VALUE=DURATION:PT1H
X-Robots-Tag:noindex
X-PUBLISHED-TTL:PT1H
BEGIN:VTIMEZONE
TZID:America/Chicago
BEGIN:DAYLIGHT
TZOFFSETFROM:-0600
TZOFFSETTO:-0500
TZNAME:CDT
DTSTART:20250309T080000
END:DAYLIGHT
BEGIN:STANDARD
TZOFFSETFROM:-0500
TZOFFSETTO:-0600
TZNAME:CST
DTSTART:20251102T070000
END:STANDARD
BEGIN:DAYLIGHT
TZOFFSETFROM:-0600
TZOFFSETTO:-0500
TZNAME:CDT
DTSTART:20260308T080000
END:DAYLIGHT
BEGIN:STANDARD
TZOFFSETFROM:-0500
TZOFFSETTO:-0600
TZNAME:CST
DTSTART:20261101T070000
END:STANDARD
BEGIN:DAYLIGHT
TZOFFSETFROM:-0600
TZOFFSETTO:-0500
TZNAME:CDT
DTSTART:20270314T080000
END:DAYLIGHT
BEGIN:STANDARD
TZOFFSETFROM:-0500
TZOFFSETTO:-0600
TZNAME:CST
DTSTART:20271107T070000
END:STANDARD
END:VTIMEZONE
BEGIN:VEVENT
DTSTART;TZID=America/Chicago:20260421T081500
DTEND;TZID=America/Chicago:20260421T091500
DTSTAMP:20260423T225358
CREATED:20260121T212309Z
LAST-MODIFIED:20260318T203803Z
UID:14492-1776759300-1776762900@stnicholasofallon.org
SUMMARY:Mass at St. Clare School
DESCRIPTION:
URL:https://stnicholasofallon.org/event/mass-at-st-clare-school-4/
END:VEVENT
BEGIN:VEVENT
DTSTART;TZID=America/Chicago:20260421T180000
DTEND;TZID=America/Chicago:20260421T200000
DTSTAMP:20260423T225358
CREATED:20260121T212310Z
LAST-MODIFIED:20260318T203803Z
UID:14493-1776794400-1776801600@stnicholasofallon.org
SUMMARY:Pickleball
DESCRIPTION:
URL:https://stnicholasofallon.org/event/pickleball-23/
END:VEVENT
BEGIN:VEVENT
DTSTART;TZID=America/Chicago:20260421T190000
DTEND;TZID=America/Chicago:20260421T200000
DTSTAMP:20260423T225358
CREATED:20260122T212309Z
LAST-MODIFIED:20260318T203803Z
UID:14496-1776798000-1776801600@stnicholasofallon.org
SUMMARY:Parish Choir
DESCRIPTION:
URL:https://stnicholasofallon.org/event/parish-choir-16/
END:VEVENT
BEGIN:VEVENT
DTSTART;TZID=America/Chicago:20260421T190000
DTEND;TZID=America/Chicago:20260421T200000
DTSTAMP:20260423T225358
CREATED:20260122T212309Z
LAST-MODIFIED:20260318T203803Z
UID:14497-1776798000-1776801600@stnicholasofallon.org
SUMMARY:Guatemala Meeting
DESCRIPTION:
URL:https://stnicholasofallon.org/event/guatemala-meeting-3/
END:VEVENT
BEGIN:VEVENT
DTSTART;TZID=America/Chicago:20260422T151500
DTEND;TZID=America/Chicago:20260422T161500
DTSTAMP:20260423T225358
CREATED:20260122T212309Z
LAST-MODIFIED:20260318T203803Z
UID:14500-1776870900-1776874500@stnicholasofallon.org
SUMMARY:Children's Choir
DESCRIPTION:
URL:https://stnicholasofallon.org/event/childrens-choir-15/
END:VEVENT
BEGIN:VEVENT
DTSTART;TZID=America/Chicago:20260422T180000
DTEND;TZID=America/Chicago:20260422T190000
DTSTAMP:20260423T225358
CREATED:20260218T225314Z
LAST-MODIFIED:20260318T203803Z
UID:14793-1776880800-1776884400@stnicholasofallon.org
SUMMARY:Mass
DESCRIPTION:
URL:https://stnicholasofallon.org/event/mass-112/
END:VEVENT
BEGIN:VEVENT
DTSTART;TZID=America/Chicago:20260424T083000
DTEND;TZID=America/Chicago:20260424T093000
DTSTAMP:20260423T225358
CREATED:20260218T225314Z
LAST-MODIFIED:20260318T203803Z
UID:14794-1777019400-1777023000@stnicholasofallon.org
SUMMARY:Mass
DESCRIPTION:
URL:https://stnicholasofallon.org/event/mass-113/
END:VEVENT
BEGIN:VEVENT
DTSTART;TZID=America/Chicago:20260424T183000
DTEND;TZID=America/Chicago:20260424T193000
DTSTAMP:20260423T225358
CREATED:20260218T225315Z
LAST-MODIFIED:20260318T203803Z
UID:14795-1777055400-1777059000@stnicholasofallon.org
SUMMARY:Stations of the Cross
DESCRIPTION:
URL:https://stnicholasofallon.org/event/stations-of-the-cross-8/
END:VEVENT
BEGIN:VEVENT
DTSTART;TZID=America/Chicago:20260425T150000
DTEND;TZID=America/Chicago:20260425T160000
DTSTAMP:20260423T225358
CREATED:20260128T215312Z
LAST-MODIFIED:20260318T203803Z
UID:14570-1777129200-1777132800@stnicholasofallon.org
SUMMARY:Confession
DESCRIPTION:
URL:https://stnicholasofallon.org/event/confession-31/
END:VEVENT
BEGIN:VEVENT
DTSTART;TZID=America/Chicago:20260425T163000
DTEND;TZID=America/Chicago:20260425T173000
DTSTAMP:20260423T225358
CREATED:20260128T215312Z
LAST-MODIFIED:20260318T203803Z
UID:14571-1777134600-1777138200@stnicholasofallon.org
SUMMARY:Mass
DESCRIPTION:
URL:https://stnicholasofallon.org/event/mass-98/
END:VEVENT
BEGIN:VEVENT
DTSTART;TZID=America/Chicago:20260426T083000
DTEND;TZID=America/Chicago:20260426T093000
DTSTAMP:20260423T225358
CREATED:20260218T225315Z
LAST-MODIFIED:20260318T203804Z
UID:14796-1777192200-1777195800@stnicholasofallon.org
SUMMARY:Mass Live Stream
DESCRIPTION:on youtube
URL:https://stnicholasofallon.org/event/mass-live-stream-26/
END:VEVENT
BEGIN:VEVENT
DTSTART;TZID=America/Chicago:20260426T094500
DTEND;TZID=America/Chicago:20260426T104500
DTSTAMP:20260423T225358
CREATED:20260126T213810Z
LAST-MODIFIED:20260318T203804Z
UID:14519-1777196700-1777200300@stnicholasofallon.org
SUMMARY:Dialogue with The Word
DESCRIPTION:
URL:https://stnicholasofallon.org/event/dialogue-with-the-word/
END:VEVENT
BEGIN:VEVENT
DTSTART;TZID=America/Chicago:20260426T103000
DTEND;TZID=America/Chicago:20260426T113000
DTSTAMP:20260423T225358
CREATED:20260218T225315Z
LAST-MODIFIED:20260318T203804Z
UID:14797-1777199400-1777203000@stnicholasofallon.org
SUMMARY:Mass
DESCRIPTION:
URL:https://stnicholasofallon.org/event/mass-114/
END:VEVENT
BEGIN:VEVENT
DTSTART;TZID=America/Chicago:20260426T140000
DTEND;TZID=America/Chicago:20260426T170000
DTSTAMP:20260423T225358
CREATED:20260126T213810Z
LAST-MODIFIED:20260318T203804Z
UID:14521-1777212000-1777222800@stnicholasofallon.org
SUMMARY:Pickleball
DESCRIPTION:
URL:https://stnicholasofallon.org/event/pickleball/
END:VEVENT
BEGIN:VEVENT
DTSTART;TZID=America/Chicago:20260426T183000
DTEND;TZID=America/Chicago:20260426T193000
DTSTAMP:20260423T225358
CREATED:20260226T235320Z
LAST-MODIFIED:20260318T203804Z
UID:14957-1777228200-1777231800@stnicholasofallon.org
SUMMARY:High School Teen Ministry
DESCRIPTION:
URL:https://stnicholasofallon.org/event/high-school-teen-ministry-25/
END:VEVENT
BEGIN:VEVENT
DTSTART;TZID=America/Chicago:20260427T083000
DTEND;TZID=America/Chicago:20260427T093000
DTSTAMP:20260423T225358
CREATED:20260218T225315Z
LAST-MODIFIED:20260318T203804Z
UID:14798-1777278600-1777282200@stnicholasofallon.org
SUMMARY:Mass
DESCRIPTION:
URL:https://stnicholasofallon.org/event/mass-115/
END:VEVENT
BEGIN:VEVENT
DTSTART;TZID=America/Chicago:20260427T190000
DTEND;TZID=America/Chicago:20260427T203000
DTSTAMP:20260423T225358
CREATED:20260128T215312Z
LAST-MODIFIED:20260318T203804Z
UID:14573-1777316400-1777321800@stnicholasofallon.org
SUMMARY:Parish Council
DESCRIPTION:
URL:https://stnicholasofallon.org/event/parish-council-4/
END:VEVENT
BEGIN:VEVENT
DTSTART;TZID=America/Chicago:20260428T081500
DTEND;TZID=America/Chicago:20260428T091500
DTSTAMP:20260423T225358
CREATED:20260128T215312Z
LAST-MODIFIED:20260318T203804Z
UID:14574-1777364100-1777367700@stnicholasofallon.org
SUMMARY:Mass at St. Clare School
DESCRIPTION:
URL:https://stnicholasofallon.org/event/mass-at-st-clare-school-14/
END:VEVENT
BEGIN:VEVENT
DTSTART;TZID=America/Chicago:20260428T180000
DTEND;TZID=America/Chicago:20260428T200000
DTSTAMP:20260423T225358
CREATED:20260128T215313Z
LAST-MODIFIED:20260318T203804Z
UID:14575-1777399200-1777406400@stnicholasofallon.org
SUMMARY:Pickleball
DESCRIPTION:
URL:https://stnicholasofallon.org/event/pickleball-2/
END:VEVENT
BEGIN:VEVENT
DTSTART;TZID=America/Chicago:20260428T190000
DTEND;TZID=America/Chicago:20260428T200000
DTSTAMP:20260423T225358
CREATED:20260129T215313Z
LAST-MODIFIED:20260318T203804Z
UID:14612-1777402800-1777406400@stnicholasofallon.org
SUMMARY:Parish Choir
DESCRIPTION:
URL:https://stnicholasofallon.org/event/parish-choir-17/
END:VEVENT
BEGIN:VEVENT
DTSTART;TZID=America/Chicago:20260429T151500
DTEND;TZID=America/Chicago:20260429T161500
DTSTAMP:20260423T225358
CREATED:20260129T215313Z
LAST-MODIFIED:20260318T203804Z
UID:14615-1777475700-1777479300@stnicholasofallon.org
SUMMARY:Children's Choir
DESCRIPTION:
URL:https://stnicholasofallon.org/event/childrens-choir-7/
END:VEVENT
BEGIN:VEVENT
DTSTART;TZID=America/Chicago:20260429T180000
DTEND;TZID=America/Chicago:20260429T190000
DTSTAMP:20260423T225358
CREATED:20260218T225315Z
LAST-MODIFIED:20260318T203804Z
UID:14799-1777485600-1777489200@stnicholasofallon.org
SUMMARY:Mass
DESCRIPTION:
URL:https://stnicholasofallon.org/event/mass-116/
END:VEVENT
BEGIN:VEVENT
DTSTART;TZID=America/Chicago:20260501T073000
DTEND;TZID=America/Chicago:20260501T083000
DTSTAMP:20260423T225358
CREATED:20260131T220815Z
LAST-MODIFIED:20260318T203804Z
UID:14622-1777620600-1777624200@stnicholasofallon.org
SUMMARY:Confession
DESCRIPTION:
URL:https://stnicholasofallon.org/event/confession/
END:VEVENT
BEGIN:VEVENT
DTSTART;TZID=America/Chicago:20260501T083000
DTEND;TZID=America/Chicago:20260501T093000
DTSTAMP:20260423T225358
CREATED:20260218T225316Z
LAST-MODIFIED:20260318T203804Z
UID:14800-1777624200-1777627800@stnicholasofallon.org
SUMMARY:Mass
DESCRIPTION:
URL:https://stnicholasofallon.org/event/mass-117/
END:VEVENT
BEGIN:VEVENT
DTSTART;TZID=America/Chicago:20260501T183000
DTEND;TZID=America/Chicago:20260501T193000
DTSTAMP:20260423T225358
CREATED:20260218T225316Z
LAST-MODIFIED:20260318T203804Z
UID:14801-1777660200-1777663800@stnicholasofallon.org
SUMMARY:Stations of the Cross
DESCRIPTION:
URL:https://stnicholasofallon.org/event/stations-of-the-cross-9/
END:VEVENT
BEGIN:VEVENT
DTSTART;TZID=America/Chicago:20260502T150000
DTEND;TZID=America/Chicago:20260502T160000
DTSTAMP:20260423T225358
CREATED:20260201T220821Z
LAST-MODIFIED:20260318T203804Z
UID:14628-1777734000-1777737600@stnicholasofallon.org
SUMMARY:Confession
DESCRIPTION:
URL:https://stnicholasofallon.org/event/confession-12/
END:VEVENT
BEGIN:VEVENT
DTSTART;TZID=America/Chicago:20260502T163000
DTEND;TZID=America/Chicago:20260502T173000
DTSTAMP:20260423T225358
CREATED:20260201T220821Z
LAST-MODIFIED:20260318T203804Z
UID:14629-1777739400-1777743000@stnicholasofallon.org
SUMMARY:Mass
DESCRIPTION:
URL:https://stnicholasofallon.org/event/mass-7/
END:VEVENT
BEGIN:VEVENT
DTSTART;TZID=America/Chicago:20260503T083000
DTEND;TZID=America/Chicago:20260503T093000
DTSTAMP:20260423T225358
CREATED:20260218T225316Z
LAST-MODIFIED:20260318T203804Z
UID:14802-1777797000-1777800600@stnicholasofallon.org
SUMMARY:Mass Live Stream
DESCRIPTION:on youtube
URL:https://stnicholasofallon.org/event/mass-live-stream-27/
END:VEVENT
BEGIN:VEVENT
DTSTART;TZID=America/Chicago:20260503T094500
DTEND;TZID=America/Chicago:20260503T104500
DTSTAMP:20260423T225358
CREATED:20260202T220817Z
LAST-MODIFIED:20260318T203804Z
UID:14634-1777801500-1777805100@stnicholasofallon.org
SUMMARY:Dialogue with The Word
DESCRIPTION:
URL:https://stnicholasofallon.org/event/dialogue-with-the-word-2/
END:VEVENT
BEGIN:VEVENT
DTSTART;TZID=America/Chicago:20260503T103000
DTEND;TZID=America/Chicago:20260503T113000
DTSTAMP:20260423T225358
CREATED:20260218T225316Z
LAST-MODIFIED:20260318T203804Z
UID:14803-1777804200-1777807800@stnicholasofallon.org
SUMMARY:Mass
DESCRIPTION:
URL:https://stnicholasofallon.org/event/mass-118/
END:VEVENT
END:VCALENDAR