BEGIN:VCALENDAR
VERSION:2.0
PRODID:-//St. Nicholas - ECPv6.15.17.1//NONSGML v1.0//EN
CALSCALE:GREGORIAN
METHOD:PUBLISH
X-WR-CALNAME:St. Nicholas
X-ORIGINAL-URL:https://stnicholasofallon.org
X-WR-CALDESC:Events for St. Nicholas
REFRESH-INTERVAL;VALUE=DURATION:PT1H
X-Robots-Tag:noindex
X-PUBLISHED-TTL:PT1H
BEGIN:VTIMEZONE
TZID:America/Chicago
BEGIN:DAYLIGHT
TZOFFSETFROM:-0600
TZOFFSETTO:-0500
TZNAME:CDT
DTSTART:20250309T080000
END:DAYLIGHT
BEGIN:STANDARD
TZOFFSETFROM:-0500
TZOFFSETTO:-0600
TZNAME:CST
DTSTART:20251102T070000
END:STANDARD
BEGIN:DAYLIGHT
TZOFFSETFROM:-0600
TZOFFSETTO:-0500
TZNAME:CDT
DTSTART:20260308T080000
END:DAYLIGHT
BEGIN:STANDARD
TZOFFSETFROM:-0500
TZOFFSETTO:-0600
TZNAME:CST
DTSTART:20261101T070000
END:STANDARD
BEGIN:DAYLIGHT
TZOFFSETFROM:-0600
TZOFFSETTO:-0500
TZNAME:CDT
DTSTART:20270314T080000
END:DAYLIGHT
BEGIN:STANDARD
TZOFFSETFROM:-0500
TZOFFSETTO:-0600
TZNAME:CST
DTSTART:20271107T070000
END:STANDARD
END:VTIMEZONE
BEGIN:VEVENT
DTSTART;TZID=America/Chicago:20260525T190000
DTEND;TZID=America/Chicago:20260525T203000
DTSTAMP:20260424T054743
CREATED:20260225T235310Z
LAST-MODIFIED:20260318T203807Z
UID:14936-1779735600-1779741000@stnicholasofallon.org
SUMMARY:Parish Council
DESCRIPTION:
URL:https://stnicholasofallon.org/event/parish-council-3/
END:VEVENT
BEGIN:VEVENT
DTSTART;TZID=America/Chicago:20260526T081500
DTEND;TZID=America/Chicago:20260526T091500
DTSTAMP:20260424T054743
CREATED:20260225T235310Z
LAST-MODIFIED:20260318T203807Z
UID:14937-1779783300-1779786900@stnicholasofallon.org
SUMMARY:Mass at St. Clare School
DESCRIPTION:
URL:https://stnicholasofallon.org/event/mass-at-st-clare-school-15/
END:VEVENT
BEGIN:VEVENT
DTSTART;TZID=America/Chicago:20260526T180000
DTEND;TZID=America/Chicago:20260526T200000
DTSTAMP:20260424T054743
CREATED:20260225T235310Z
LAST-MODIFIED:20260318T203807Z
UID:14938-1779818400-1779825600@stnicholasofallon.org
SUMMARY:Pickleball
DESCRIPTION:
URL:https://stnicholasofallon.org/event/pickleball-12/
END:VEVENT
BEGIN:VEVENT
DTSTART;TZID=America/Chicago:20260526T190000
DTEND;TZID=America/Chicago:20260526T200000
DTSTAMP:20260424T054743
CREATED:20260226T235326Z
LAST-MODIFIED:20260318T203807Z
UID:14965-1779822000-1779825600@stnicholasofallon.org
SUMMARY:Parish Choir
DESCRIPTION:
URL:https://stnicholasofallon.org/event/parish-choir-3/
END:VEVENT
BEGIN:VEVENT
DTSTART;TZID=America/Chicago:20260527T151500
DTEND;TZID=America/Chicago:20260527T161500
DTSTAMP:20260424T054743
CREATED:20260226T235326Z
LAST-MODIFIED:20260318T203807Z
UID:14966-1779894900-1779898500@stnicholasofallon.org
SUMMARY:Children's Choir
DESCRIPTION:
URL:https://stnicholasofallon.org/event/childrens-choir-3/
END:VEVENT
BEGIN:VEVENT
DTSTART;TZID=America/Chicago:20260527T180000
DTEND;TZID=America/Chicago:20260527T190000
DTSTAMP:20260424T054743
CREATED:20260226T235326Z
LAST-MODIFIED:20260318T203807Z
UID:14967-1779904800-1779908400@stnicholasofallon.org
SUMMARY:Mass
DESCRIPTION:
URL:https://stnicholasofallon.org/event/mass-8/
END:VEVENT
BEGIN:VEVENT
DTSTART;TZID=America/Chicago:20260529T083000
DTEND;TZID=America/Chicago:20260529T093000
DTSTAMP:20260424T054743
CREATED:20260228T193816Z
LAST-MODIFIED:20260318T203807Z
UID:14992-1780043400-1780047000@stnicholasofallon.org
SUMMARY:Mass
DESCRIPTION:
URL:https://stnicholasofallon.org/event/mass-9/
END:VEVENT
BEGIN:VEVENT
DTSTART;TZID=America/Chicago:20260529T183000
DTEND;TZID=America/Chicago:20260529T193000
DTSTAMP:20260424T054743
CREATED:20260228T193817Z
LAST-MODIFIED:20260318T203807Z
UID:14993-1780079400-1780083000@stnicholasofallon.org
SUMMARY:Stations of the Cross
DESCRIPTION:
URL:https://stnicholasofallon.org/event/stations-of-the-cross-13/
END:VEVENT
BEGIN:VEVENT
DTSTART;TZID=America/Chicago:20260530T150000
DTEND;TZID=America/Chicago:20260530T160000
DTSTAMP:20260424T054743
CREATED:20260301T193838Z
LAST-MODIFIED:20260318T203808Z
UID:14997-1780153200-1780156800@stnicholasofallon.org
SUMMARY:Confession
DESCRIPTION:
URL:https://stnicholasofallon.org/event/confession-6/
END:VEVENT
BEGIN:VEVENT
DTSTART;TZID=America/Chicago:20260530T163000
DTEND;TZID=America/Chicago:20260530T173000
DTSTAMP:20260424T054743
CREATED:20260301T193838Z
LAST-MODIFIED:20260318T203808Z
UID:14998-1780158600-1780162200@stnicholasofallon.org
SUMMARY:Mass
DESCRIPTION:
URL:https://stnicholasofallon.org/event/mass-10/
END:VEVENT
BEGIN:VEVENT
DTSTART;TZID=America/Chicago:20260531T083000
DTEND;TZID=America/Chicago:20260531T093000
DTSTAMP:20260424T054743
CREATED:20260302T193817Z
LAST-MODIFIED:20260318T203808Z
UID:15002-1780216200-1780219800@stnicholasofallon.org
SUMMARY:Mass Live Stream
DESCRIPTION:on youtube
URL:https://stnicholasofallon.org/event/mass-live-stream-2/
END:VEVENT
BEGIN:VEVENT
DTSTART;TZID=America/Chicago:20260531T094500
DTEND;TZID=America/Chicago:20260531T104500
DTSTAMP:20260424T054743
CREATED:20260302T193817Z
LAST-MODIFIED:20260318T203808Z
UID:15003-1780220700-1780224300@stnicholasofallon.org
SUMMARY:Dialogue with The Word
DESCRIPTION:
URL:https://stnicholasofallon.org/event/dialogue-with-the-word-6/
END:VEVENT
BEGIN:VEVENT
DTSTART;TZID=America/Chicago:20260531T103000
DTEND;TZID=America/Chicago:20260531T113000
DTSTAMP:20260424T054743
CREATED:20260302T193817Z
LAST-MODIFIED:20260318T203808Z
UID:15004-1780223400-1780227000@stnicholasofallon.org
SUMMARY:Mass
DESCRIPTION:
URL:https://stnicholasofallon.org/event/mass-11/
END:VEVENT
BEGIN:VEVENT
DTSTART;TZID=America/Chicago:20260531T140000
DTEND;TZID=America/Chicago:20260531T170000
DTSTAMP:20260424T054743
CREATED:20260302T193817Z
LAST-MODIFIED:20260318T203808Z
UID:15005-1780236000-1780246800@stnicholasofallon.org
SUMMARY:Pickleball
DESCRIPTION:
URL:https://stnicholasofallon.org/event/pickleball-13/
END:VEVENT
BEGIN:VEVENT
DTSTART;TZID=America/Chicago:20260531T183000
DTEND;TZID=America/Chicago:20260531T193000
DTSTAMP:20260424T054743
CREATED:20260302T193818Z
LAST-MODIFIED:20260318T203808Z
UID:15006-1780252200-1780255800@stnicholasofallon.org
SUMMARY:High School Teen Ministry
DESCRIPTION:
URL:https://stnicholasofallon.org/event/high-school-teen-ministry/
END:VEVENT
BEGIN:VEVENT
DTSTART;TZID=America/Chicago:20260601T083000
DTEND;TZID=America/Chicago:20260601T093000
DTSTAMP:20260424T054743
CREATED:20260303T195311Z
LAST-MODIFIED:20260318T203808Z
UID:15013-1780302600-1780306200@stnicholasofallon.org
SUMMARY:Mass
DESCRIPTION:
URL:https://stnicholasofallon.org/event/mass-12/
END:VEVENT
BEGIN:VEVENT
DTSTART;TZID=America/Chicago:20260601T173000
DTEND;TZID=America/Chicago:20260601T183000
DTSTAMP:20260424T054743
CREATED:20260303T195311Z
LAST-MODIFIED:20260318T203808Z
UID:15014-1780335000-1780338600@stnicholasofallon.org
SUMMARY:St. Vincent de Paul
DESCRIPTION:
URL:https://stnicholasofallon.org/event/st-vincent-de-paul-3/
END:VEVENT
BEGIN:VEVENT
DTSTART;TZID=America/Chicago:20260601T173000
DTEND;TZID=America/Chicago:20260601T183000
DTSTAMP:20260424T054743
CREATED:20260303T195311Z
LAST-MODIFIED:20260318T203808Z
UID:15015-1780335000-1780338600@stnicholasofallon.org
SUMMARY:St. Vincent de Paul Mtg
DESCRIPTION:
URL:https://stnicholasofallon.org/event/st-vincent-de-paul-mtg-5/
END:VEVENT
BEGIN:VEVENT
DTSTART;TZID=America/Chicago:20260601T183000
DTEND;TZID=America/Chicago:20260601T203000
DTSTAMP:20260424T054743
CREATED:20260303T195311Z
LAST-MODIFIED:20260318T203808Z
UID:15016-1780338600-1780345800@stnicholasofallon.org
SUMMARY:Men's Gathering
DESCRIPTION:
URL:https://stnicholasofallon.org/event/mens-gathering/
END:VEVENT
BEGIN:VEVENT
DTSTART;TZID=America/Chicago:20260602T081500
DTEND;TZID=America/Chicago:20260602T091500
DTSTAMP:20260424T054743
CREATED:20260304T195311Z
LAST-MODIFIED:20260318T203808Z
UID:15022-1780388100-1780391700@stnicholasofallon.org
SUMMARY:Mass at St. Clare School
DESCRIPTION:
URL:https://stnicholasofallon.org/event/mass-at-st-clare-school-5/
END:VEVENT
BEGIN:VEVENT
DTSTART;TZID=America/Chicago:20260602T180000
DTEND;TZID=America/Chicago:20260602T200000
DTSTAMP:20260424T054743
CREATED:20260304T195311Z
LAST-MODIFIED:20260318T203808Z
UID:15023-1780423200-1780430400@stnicholasofallon.org
SUMMARY:Pickleball
DESCRIPTION:
URL:https://stnicholasofallon.org/event/pickleball-14/
END:VEVENT
BEGIN:VEVENT
DTSTART;TZID=America/Chicago:20260602T190000
DTEND;TZID=America/Chicago:20260602T200000
DTSTAMP:20260424T054743
CREATED:20260305T195311Z
LAST-MODIFIED:20260318T203808Z
UID:15026-1780426800-1780430400@stnicholasofallon.org
SUMMARY:Parish Choir
DESCRIPTION:
URL:https://stnicholasofallon.org/event/parish-choir-4/
END:VEVENT
BEGIN:VEVENT
DTSTART;TZID=America/Chicago:20260603T151500
DTEND;TZID=America/Chicago:20260603T161500
DTSTAMP:20260424T054743
CREATED:20260305T195311Z
LAST-MODIFIED:20260318T203808Z
UID:15028-1780499700-1780503300@stnicholasofallon.org
SUMMARY:Children's Choir
DESCRIPTION:
URL:https://stnicholasofallon.org/event/childrens-choir-4/
END:VEVENT
BEGIN:VEVENT
DTSTART;TZID=America/Chicago:20260603T180000
DTEND;TZID=America/Chicago:20260603T190000
DTSTAMP:20260424T054743
CREATED:20260305T195311Z
LAST-MODIFIED:20260318T203808Z
UID:15029-1780509600-1780513200@stnicholasofallon.org
SUMMARY:Mass
DESCRIPTION:
URL:https://stnicholasofallon.org/event/mass-14/
END:VEVENT
BEGIN:VEVENT
DTSTART;TZID=America/Chicago:20260604T093000
DTEND;TZID=America/Chicago:20260604T103000
DTSTAMP:20260424T054743
CREATED:20260306T195311Z
LAST-MODIFIED:20260318T203808Z
UID:15034-1780565400-1780569000@stnicholasofallon.org
SUMMARY:Book Club
DESCRIPTION:
URL:https://stnicholasofallon.org/event/book-club-5/
END:VEVENT
BEGIN:VEVENT
DTSTART;TZID=America/Chicago:20260605T073000
DTEND;TZID=America/Chicago:20260605T083000
DTSTAMP:20260424T054743
CREATED:20260307T195313Z
LAST-MODIFIED:20260318T203809Z
UID:15038-1780644600-1780648200@stnicholasofallon.org
SUMMARY:Confession
DESCRIPTION:
URL:https://stnicholasofallon.org/event/confession-7/
END:VEVENT
BEGIN:VEVENT
DTSTART;TZID=America/Chicago:20260605T083000
DTEND;TZID=America/Chicago:20260605T093000
DTSTAMP:20260424T054743
CREATED:20260307T195313Z
LAST-MODIFIED:20260318T203808Z
UID:15039-1780648200-1780651800@stnicholasofallon.org
SUMMARY:Mass
DESCRIPTION:
URL:https://stnicholasofallon.org/event/mass-15/
END:VEVENT
BEGIN:VEVENT
DTSTART;TZID=America/Chicago:20260605T183000
DTEND;TZID=America/Chicago:20260605T193000
DTSTAMP:20260424T054743
CREATED:20260307T195313Z
LAST-MODIFIED:20260318T203809Z
UID:15040-1780684200-1780687800@stnicholasofallon.org
SUMMARY:Stations of the Cross
DESCRIPTION:
URL:https://stnicholasofallon.org/event/stations-of-the-cross-14/
END:VEVENT
BEGIN:VEVENT
DTSTART;TZID=America/Chicago:20260606T150000
DTEND;TZID=America/Chicago:20260606T160000
DTSTAMP:20260424T054743
CREATED:20260308T195313Z
LAST-MODIFIED:20260318T203809Z
UID:15045-1780758000-1780761600@stnicholasofallon.org
SUMMARY:Confession
DESCRIPTION:
URL:https://stnicholasofallon.org/event/confession-8/
END:VEVENT
BEGIN:VEVENT
DTSTART;TZID=America/Chicago:20260606T163000
DTEND;TZID=America/Chicago:20260606T173000
DTSTAMP:20260424T054743
CREATED:20260308T195314Z
LAST-MODIFIED:20260318T203809Z
UID:15046-1780763400-1780767000@stnicholasofallon.org
SUMMARY:Mass
DESCRIPTION:
URL:https://stnicholasofallon.org/event/mass-16/
END:VEVENT
END:VCALENDAR