BEGIN:VCALENDAR
VERSION:2.0
PRODID:-//St. Nicholas - ECPv6.15.17.1//NONSGML v1.0//EN
CALSCALE:GREGORIAN
METHOD:PUBLISH
X-ORIGINAL-URL:https://stnicholasofallon.org
X-WR-CALDESC:Events for St. Nicholas
REFRESH-INTERVAL;VALUE=DURATION:PT1H
X-Robots-Tag:noindex
X-PUBLISHED-TTL:PT1H
BEGIN:VTIMEZONE
TZID:America/Chicago
BEGIN:DAYLIGHT
TZOFFSETFROM:-0600
TZOFFSETTO:-0500
TZNAME:CDT
DTSTART:20250309T080000
END:DAYLIGHT
BEGIN:STANDARD
TZOFFSETFROM:-0500
TZOFFSETTO:-0600
TZNAME:CST
DTSTART:20251102T070000
END:STANDARD
BEGIN:DAYLIGHT
TZOFFSETFROM:-0600
TZOFFSETTO:-0500
TZNAME:CDT
DTSTART:20260308T080000
END:DAYLIGHT
BEGIN:STANDARD
TZOFFSETFROM:-0500
TZOFFSETTO:-0600
TZNAME:CST
DTSTART:20261101T070000
END:STANDARD
BEGIN:DAYLIGHT
TZOFFSETFROM:-0600
TZOFFSETTO:-0500
TZNAME:CDT
DTSTART:20270314T080000
END:DAYLIGHT
BEGIN:STANDARD
TZOFFSETFROM:-0500
TZOFFSETTO:-0600
TZNAME:CST
DTSTART:20271107T070000
END:STANDARD
END:VTIMEZONE
BEGIN:VEVENT
DTSTART;TZID=America/Chicago:20260508T183000
DTEND;TZID=America/Chicago:20260508T193000
DTSTAMP:20260423T224732
CREATED:20260218T225317Z
LAST-MODIFIED:20260318T203805Z
UID:14807-1778265000-1778268600@stnicholasofallon.org
SUMMARY:Stations of the Cross
DESCRIPTION:
URL:https://stnicholasofallon.org/event/stations-of-the-cross-10/
END:VEVENT
BEGIN:VEVENT
DTSTART;TZID=America/Chicago:20260509T150000
DTEND;TZID=America/Chicago:20260509T160000
DTSTAMP:20260423T224732
CREATED:20260208T223842Z
LAST-MODIFIED:20260318T203805Z
UID:14670-1778338800-1778342400@stnicholasofallon.org
SUMMARY:Confession
DESCRIPTION:
URL:https://stnicholasofallon.org/event/confession-3/
END:VEVENT
BEGIN:VEVENT
DTSTART;TZID=America/Chicago:20260509T163000
DTEND;TZID=America/Chicago:20260509T173000
DTSTAMP:20260423T224732
CREATED:20260208T223842Z
LAST-MODIFIED:20260318T203805Z
UID:14671-1778344200-1778347800@stnicholasofallon.org
SUMMARY:Mass
DESCRIPTION:
URL:https://stnicholasofallon.org/event/mass-13/
END:VEVENT
BEGIN:VEVENT
DTSTART;TZID=America/Chicago:20260510T083000
DTEND;TZID=America/Chicago:20260510T093000
DTSTAMP:20260423T224732
CREATED:20260218T225317Z
LAST-MODIFIED:20260318T203805Z
UID:14808-1778401800-1778405400@stnicholasofallon.org
SUMMARY:Mass Live Stream
DESCRIPTION:on youtube
URL:https://stnicholasofallon.org/event/mass-live-stream-28/
END:VEVENT
BEGIN:VEVENT
DTSTART;TZID=America/Chicago:20260510T094500
DTEND;TZID=America/Chicago:20260510T104500
DTSTAMP:20260423T224732
CREATED:20260209T223811Z
LAST-MODIFIED:20260318T203805Z
UID:14678-1778406300-1778409900@stnicholasofallon.org
SUMMARY:Dialogue with The Word
DESCRIPTION:
URL:https://stnicholasofallon.org/event/dialogue-with-the-word-3/
END:VEVENT
BEGIN:VEVENT
DTSTART;TZID=America/Chicago:20260510T103000
DTEND;TZID=America/Chicago:20260510T113000
DTSTAMP:20260423T224732
CREATED:20260218T225317Z
LAST-MODIFIED:20260318T203805Z
UID:14809-1778409000-1778412600@stnicholasofallon.org
SUMMARY:Mass
DESCRIPTION:
URL:https://stnicholasofallon.org/event/mass-122/
END:VEVENT
BEGIN:VEVENT
DTSTART;TZID=America/Chicago:20260510T140000
DTEND;TZID=America/Chicago:20260510T170000
DTSTAMP:20260423T224732
CREATED:20260209T223811Z
LAST-MODIFIED:20260318T203805Z
UID:14679-1778421600-1778432400@stnicholasofallon.org
SUMMARY:Pickleball
DESCRIPTION:
URL:https://stnicholasofallon.org/event/pickleball-7/
END:VEVENT
BEGIN:VEVENT
DTSTART;TZID=America/Chicago:20260510T183000
DTEND;TZID=America/Chicago:20260510T193000
DTSTAMP:20260423T224732
CREATED:20260226T235322Z
LAST-MODIFIED:20260318T203805Z
UID:14959-1778437800-1778441400@stnicholasofallon.org
SUMMARY:High School Teen Ministry
DESCRIPTION:
URL:https://stnicholasofallon.org/event/high-school-teen-ministry-27/
END:VEVENT
BEGIN:VEVENT
DTSTART;TZID=America/Chicago:20260511T083000
DTEND;TZID=America/Chicago:20260511T093000
DTSTAMP:20260423T224732
CREATED:20260218T225317Z
LAST-MODIFIED:20260318T203805Z
UID:14810-1778488200-1778491800@stnicholasofallon.org
SUMMARY:Mass
DESCRIPTION:
URL:https://stnicholasofallon.org/event/mass-123/
END:VEVENT
BEGIN:VEVENT
DTSTART;TZID=America/Chicago:20260511T173000
DTEND;TZID=America/Chicago:20260511T183000
DTSTAMP:20260423T224732
CREATED:20260210T223826Z
LAST-MODIFIED:20260318T203806Z
UID:14689-1778520600-1778524200@stnicholasofallon.org
SUMMARY:St. Vincent de Paul
DESCRIPTION:
URL:https://stnicholasofallon.org/event/st-vincent-de-paul/
END:VEVENT
BEGIN:VEVENT
DTSTART;TZID=America/Chicago:20260511T180000
DTEND;TZID=America/Chicago:20260511T210000
DTSTAMP:20260423T224732
CREATED:20260210T223826Z
LAST-MODIFIED:20260318T203806Z
UID:14688-1778522400-1778533200@stnicholasofallon.org
SUMMARY:Yesterday's Kids
DESCRIPTION:
URL:https://stnicholasofallon.org/event/yesterdays-kids-5/
END:VEVENT
BEGIN:VEVENT
DTSTART;TZID=America/Chicago:20260512T081500
DTEND;TZID=America/Chicago:20260512T091500
DTSTAMP:20260423T224732
CREATED:20260211T223809Z
LAST-MODIFIED:20260318T203806Z
UID:14704-1778573700-1778577300@stnicholasofallon.org
SUMMARY:Mass at St. Clare School
DESCRIPTION:
URL:https://stnicholasofallon.org/event/mass-at-st-clare-school-8/
END:VEVENT
BEGIN:VEVENT
DTSTART;TZID=America/Chicago:20260512T180000
DTEND;TZID=America/Chicago:20260512T200000
DTSTAMP:20260423T224732
CREATED:20260211T223809Z
LAST-MODIFIED:20260318T203806Z
UID:14705-1778608800-1778616000@stnicholasofallon.org
SUMMARY:Pickleball
DESCRIPTION:
URL:https://stnicholasofallon.org/event/pickleball-8/
END:VEVENT
BEGIN:VEVENT
DTSTART;TZID=America/Chicago:20260512T190000
DTEND;TZID=America/Chicago:20260512T200000
DTSTAMP:20260423T224732
CREATED:20260212T223812Z
LAST-MODIFIED:20260318T203806Z
UID:14708-1778612400-1778616000@stnicholasofallon.org
SUMMARY:Parish Choir
DESCRIPTION:
URL:https://stnicholasofallon.org/event/parish-choir/
END:VEVENT
BEGIN:VEVENT
DTSTART;TZID=America/Chicago:20260513T151500
DTEND;TZID=America/Chicago:20260513T161500
DTSTAMP:20260423T224732
CREATED:20260212T223812Z
LAST-MODIFIED:20260318T203806Z
UID:14711-1778685300-1778688900@stnicholasofallon.org
SUMMARY:Children's Choir
DESCRIPTION:
URL:https://stnicholasofallon.org/event/childrens-choir-17/
END:VEVENT
BEGIN:VEVENT
DTSTART;TZID=America/Chicago:20260513T180000
DTEND;TZID=America/Chicago:20260513T190000
DTSTAMP:20260423T224732
CREATED:20260218T225318Z
LAST-MODIFIED:20260318T203806Z
UID:14811-1778695200-1778698800@stnicholasofallon.org
SUMMARY:Mass
DESCRIPTION:
URL:https://stnicholasofallon.org/event/mass-124/
END:VEVENT
BEGIN:VEVENT
DTSTART;TZID=America/Chicago:20260515T083000
DTEND;TZID=America/Chicago:20260515T093000
DTSTAMP:20260423T224732
CREATED:20260218T225318Z
LAST-MODIFIED:20260318T203806Z
UID:14812-1778833800-1778837400@stnicholasofallon.org
SUMMARY:Mass
DESCRIPTION:
URL:https://stnicholasofallon.org/event/mass-125/
END:VEVENT
BEGIN:VEVENT
DTSTART;TZID=America/Chicago:20260515T183000
DTEND;TZID=America/Chicago:20260515T193000
DTSTAMP:20260423T224732
CREATED:20260218T225318Z
LAST-MODIFIED:20260318T203806Z
UID:14813-1778869800-1778873400@stnicholasofallon.org
SUMMARY:Stations of the Cross
DESCRIPTION:
URL:https://stnicholasofallon.org/event/stations-of-the-cross-11/
END:VEVENT
BEGIN:VEVENT
DTSTART;TZID=America/Chicago:20260516T150000
DTEND;TZID=America/Chicago:20260516T160000
DTSTAMP:20260423T224732
CREATED:20260215T225324Z
LAST-MODIFIED:20260318T203806Z
UID:14720-1778943600-1778947200@stnicholasofallon.org
SUMMARY:Confession
DESCRIPTION:
URL:https://stnicholasofallon.org/event/confession-4/
END:VEVENT
BEGIN:VEVENT
DTSTART;TZID=America/Chicago:20260516T163000
DTEND;TZID=America/Chicago:20260516T173000
DTSTAMP:20260423T224732
CREATED:20260215T225324Z
LAST-MODIFIED:20260318T203806Z
UID:14721-1778949000-1778952600@stnicholasofallon.org
SUMMARY:Mass
DESCRIPTION:
URL:https://stnicholasofallon.org/event/mass-19/
END:VEVENT
BEGIN:VEVENT
DTSTART;TZID=America/Chicago:20260517T083000
DTEND;TZID=America/Chicago:20260517T093000
DTSTAMP:20260423T224732
CREATED:20260218T225318Z
LAST-MODIFIED:20260318T203806Z
UID:14814-1779006600-1779010200@stnicholasofallon.org
SUMMARY:Mass Live Stream
DESCRIPTION:on youtube
URL:https://stnicholasofallon.org/event/mass-live-stream-29/
END:VEVENT
BEGIN:VEVENT
DTSTART;TZID=America/Chicago:20260517T094500
DTEND;TZID=America/Chicago:20260517T104500
DTSTAMP:20260423T224732
CREATED:20260216T225310Z
LAST-MODIFIED:20260318T203806Z
UID:14727-1779011100-1779014700@stnicholasofallon.org
SUMMARY:Dialogue with The Word
DESCRIPTION:
URL:https://stnicholasofallon.org/event/dialogue-with-the-word-4/
END:VEVENT
BEGIN:VEVENT
DTSTART;TZID=America/Chicago:20260517T103000
DTEND;TZID=America/Chicago:20260517T113000
DTSTAMP:20260423T224732
CREATED:20260218T225318Z
LAST-MODIFIED:20260318T203806Z
UID:14815-1779013800-1779017400@stnicholasofallon.org
SUMMARY:Mass
DESCRIPTION:
URL:https://stnicholasofallon.org/event/mass-126/
END:VEVENT
BEGIN:VEVENT
DTSTART;TZID=America/Chicago:20260517T140000
DTEND;TZID=America/Chicago:20260517T170000
DTSTAMP:20260423T224732
CREATED:20260216T225310Z
LAST-MODIFIED:20260318T203806Z
UID:14728-1779026400-1779037200@stnicholasofallon.org
SUMMARY:Pickleball
DESCRIPTION:
URL:https://stnicholasofallon.org/event/pickleball-9/
END:VEVENT
BEGIN:VEVENT
DTSTART;TZID=America/Chicago:20260517T183000
DTEND;TZID=America/Chicago:20260517T193000
DTSTAMP:20260423T224732
CREATED:20260226T235324Z
LAST-MODIFIED:20260318T203806Z
UID:14960-1779042600-1779046200@stnicholasofallon.org
SUMMARY:High School Teen Ministry
DESCRIPTION:
URL:https://stnicholasofallon.org/event/high-school-teen-ministry-28/
END:VEVENT
BEGIN:VEVENT
DTSTART;TZID=America/Chicago:20260518T083000
DTEND;TZID=America/Chicago:20260518T093000
DTSTAMP:20260423T224732
CREATED:20260218T225319Z
LAST-MODIFIED:20260318T203806Z
UID:14816-1779093000-1779096600@stnicholasofallon.org
SUMMARY:Mass
DESCRIPTION:
URL:https://stnicholasofallon.org/event/mass-127/
END:VEVENT
BEGIN:VEVENT
DTSTART;TZID=America/Chicago:20260518T173000
DTEND;TZID=America/Chicago:20260518T183000
DTSTAMP:20260423T224732
CREATED:20260217T225345Z
LAST-MODIFIED:20260318T203806Z
UID:14737-1779125400-1779129000@stnicholasofallon.org
SUMMARY:St. Vincent de Paul Mtg
DESCRIPTION:
URL:https://stnicholasofallon.org/event/st-vincent-de-paul-mtg-4/
END:VEVENT
BEGIN:VEVENT
DTSTART;TZID=America/Chicago:20260519T081500
DTEND;TZID=America/Chicago:20260519T091500
DTSTAMP:20260423T224732
CREATED:20260218T225319Z
LAST-MODIFIED:20260318T203806Z
UID:14818-1779178500-1779182100@stnicholasofallon.org
SUMMARY:Mass at St. Clare School
DESCRIPTION:
URL:https://stnicholasofallon.org/event/mass-at-st-clare-school-2/
END:VEVENT
BEGIN:VEVENT
DTSTART;TZID=America/Chicago:20260519T180000
DTEND;TZID=America/Chicago:20260519T200000
DTSTAMP:20260423T224732
CREATED:20260218T225319Z
LAST-MODIFIED:20260318T203807Z
UID:14819-1779213600-1779220800@stnicholasofallon.org
SUMMARY:Pickleball
DESCRIPTION:
URL:https://stnicholasofallon.org/event/pickleball-10/
END:VEVENT
BEGIN:VEVENT
DTSTART;TZID=America/Chicago:20260519T190000
DTEND;TZID=America/Chicago:20260519T200000
DTSTAMP:20260423T224732
CREATED:20260219T230813Z
LAST-MODIFIED:20260318T203807Z
UID:14901-1779217200-1779220800@stnicholasofallon.org
SUMMARY:Guatemala Meeting
DESCRIPTION:
URL:https://stnicholasofallon.org/event/guatemala-meeting-5/
END:VEVENT
END:VCALENDAR