BEGIN:VCALENDAR
VERSION:2.0
PRODID:-//St. Nicholas - ECPv6.15.17.1//NONSGML v1.0//EN
CALSCALE:GREGORIAN
METHOD:PUBLISH
X-WR-CALNAME:St. Nicholas
X-ORIGINAL-URL:https://stnicholasofallon.org
X-WR-CALDESC:Events for St. Nicholas
REFRESH-INTERVAL;VALUE=DURATION:PT1H
X-Robots-Tag:noindex
X-PUBLISHED-TTL:PT1H
BEGIN:VTIMEZONE
TZID:America/Chicago
BEGIN:DAYLIGHT
TZOFFSETFROM:-0600
TZOFFSETTO:-0500
TZNAME:CDT
DTSTART:20250309T080000
END:DAYLIGHT
BEGIN:STANDARD
TZOFFSETFROM:-0500
TZOFFSETTO:-0600
TZNAME:CST
DTSTART:20251102T070000
END:STANDARD
BEGIN:DAYLIGHT
TZOFFSETFROM:-0600
TZOFFSETTO:-0500
TZNAME:CDT
DTSTART:20260308T080000
END:DAYLIGHT
BEGIN:STANDARD
TZOFFSETFROM:-0500
TZOFFSETTO:-0600
TZNAME:CST
DTSTART:20261101T070000
END:STANDARD
BEGIN:DAYLIGHT
TZOFFSETFROM:-0600
TZOFFSETTO:-0500
TZNAME:CDT
DTSTART:20270314T080000
END:DAYLIGHT
BEGIN:STANDARD
TZOFFSETFROM:-0500
TZOFFSETTO:-0600
TZNAME:CST
DTSTART:20271107T070000
END:STANDARD
END:VTIMEZONE
BEGIN:VEVENT
DTSTART;TZID=America/Chicago:20260605T073000
DTEND;TZID=America/Chicago:20260605T083000
DTSTAMP:20260424T074010
CREATED:20260307T195313Z
LAST-MODIFIED:20260318T203809Z
UID:15038-1780644600-1780648200@stnicholasofallon.org
SUMMARY:Confession
DESCRIPTION:
URL:https://stnicholasofallon.org/event/confession-7/
END:VEVENT
BEGIN:VEVENT
DTSTART;TZID=America/Chicago:20260605T083000
DTEND;TZID=America/Chicago:20260605T093000
DTSTAMP:20260424T074010
CREATED:20260307T195313Z
LAST-MODIFIED:20260318T203808Z
UID:15039-1780648200-1780651800@stnicholasofallon.org
SUMMARY:Mass
DESCRIPTION:
URL:https://stnicholasofallon.org/event/mass-15/
END:VEVENT
BEGIN:VEVENT
DTSTART;TZID=America/Chicago:20260605T183000
DTEND;TZID=America/Chicago:20260605T193000
DTSTAMP:20260424T074010
CREATED:20260307T195313Z
LAST-MODIFIED:20260318T203809Z
UID:15040-1780684200-1780687800@stnicholasofallon.org
SUMMARY:Stations of the Cross
DESCRIPTION:
URL:https://stnicholasofallon.org/event/stations-of-the-cross-14/
END:VEVENT
BEGIN:VEVENT
DTSTART;TZID=America/Chicago:20260606T150000
DTEND;TZID=America/Chicago:20260606T160000
DTSTAMP:20260424T074010
CREATED:20260308T195313Z
LAST-MODIFIED:20260318T203809Z
UID:15045-1780758000-1780761600@stnicholasofallon.org
SUMMARY:Confession
DESCRIPTION:
URL:https://stnicholasofallon.org/event/confession-8/
END:VEVENT
BEGIN:VEVENT
DTSTART;TZID=America/Chicago:20260606T163000
DTEND;TZID=America/Chicago:20260606T173000
DTSTAMP:20260424T074010
CREATED:20260308T195314Z
LAST-MODIFIED:20260318T203809Z
UID:15046-1780763400-1780767000@stnicholasofallon.org
SUMMARY:Mass
DESCRIPTION:
URL:https://stnicholasofallon.org/event/mass-16/
END:VEVENT
BEGIN:VEVENT
DTSTART;TZID=America/Chicago:20260607T083000
DTEND;TZID=America/Chicago:20260607T093000
DTSTAMP:20260424T074010
CREATED:20260309T195312Z
LAST-MODIFIED:20260318T203809Z
UID:15050-1780821000-1780824600@stnicholasofallon.org
SUMMARY:Mass Live Stream
DESCRIPTION:on youtube
URL:https://stnicholasofallon.org/event/mass-live-stream-3/
END:VEVENT
BEGIN:VEVENT
DTSTART;TZID=America/Chicago:20260607T094500
DTEND;TZID=America/Chicago:20260607T104500
DTSTAMP:20260424T074010
CREATED:20260309T195312Z
LAST-MODIFIED:20260318T203809Z
UID:15052-1780825500-1780829100@stnicholasofallon.org
SUMMARY:Dialogue with The Word
DESCRIPTION:
URL:https://stnicholasofallon.org/event/dialogue-with-the-word-7/
END:VEVENT
BEGIN:VEVENT
DTSTART;TZID=America/Chicago:20260607T103000
DTEND;TZID=America/Chicago:20260607T113000
DTSTAMP:20260424T074010
CREATED:20260309T195312Z
LAST-MODIFIED:20260318T203809Z
UID:15051-1780828200-1780831800@stnicholasofallon.org
SUMMARY:Mass
DESCRIPTION:
URL:https://stnicholasofallon.org/event/mass-17/
END:VEVENT
BEGIN:VEVENT
DTSTART;TZID=America/Chicago:20260607T140000
DTEND;TZID=America/Chicago:20260607T170000
DTSTAMP:20260424T074010
CREATED:20260309T195312Z
LAST-MODIFIED:20260318T203809Z
UID:15053-1780840800-1780851600@stnicholasofallon.org
SUMMARY:Pickleball
DESCRIPTION:
URL:https://stnicholasofallon.org/event/pickleball-15/
END:VEVENT
BEGIN:VEVENT
DTSTART;TZID=America/Chicago:20260607T183000
DTEND;TZID=America/Chicago:20260607T193000
DTSTAMP:20260424T074010
CREATED:20260309T195312Z
LAST-MODIFIED:20260318T203809Z
UID:15054-1780857000-1780860600@stnicholasofallon.org
SUMMARY:High School Teen Ministry
DESCRIPTION:
URL:https://stnicholasofallon.org/event/high-school-teen-ministry-2/
END:VEVENT
BEGIN:VEVENT
DTSTART;TZID=America/Chicago:20260608T083000
DTEND;TZID=America/Chicago:20260608T093000
DTSTAMP:20260424T074010
CREATED:20260310T195322Z
LAST-MODIFIED:20260318T203809Z
UID:15062-1780907400-1780911000@stnicholasofallon.org
SUMMARY:Mass
DESCRIPTION:
URL:https://stnicholasofallon.org/event/mass-18/
END:VEVENT
BEGIN:VEVENT
DTSTART;TZID=America/Chicago:20260608T180000
DTEND;TZID=America/Chicago:20260608T210000
DTSTAMP:20260424T074010
CREATED:20260310T195322Z
LAST-MODIFIED:20260318T203809Z
UID:15063-1780941600-1780952400@stnicholasofallon.org
SUMMARY:Yesterday's Kids
DESCRIPTION:
URL:https://stnicholasofallon.org/event/yesterdays-kids/
END:VEVENT
BEGIN:VEVENT
DTSTART;TZID=America/Chicago:20260609T081500
DTEND;TZID=America/Chicago:20260609T091500
DTSTAMP:20260424T074010
CREATED:20260311T195320Z
LAST-MODIFIED:20260318T203809Z
UID:15068-1780992900-1780996500@stnicholasofallon.org
SUMMARY:Mass at St. Clare School
DESCRIPTION:
URL:https://stnicholasofallon.org/event/mass-at-st-clare-school-6/
END:VEVENT
BEGIN:VEVENT
DTSTART;TZID=America/Chicago:20260609T180000
DTEND;TZID=America/Chicago:20260609T200000
DTSTAMP:20260424T074010
CREATED:20260311T195320Z
LAST-MODIFIED:20260318T203809Z
UID:15069-1781028000-1781035200@stnicholasofallon.org
SUMMARY:Pickleball
DESCRIPTION:
URL:https://stnicholasofallon.org/event/pickleball-16/
END:VEVENT
BEGIN:VEVENT
DTSTART;TZID=America/Chicago:20260609T190000
DTEND;TZID=America/Chicago:20260609T200000
DTSTAMP:20260424T074010
CREATED:20260312T200813Z
LAST-MODIFIED:20260318T203809Z
UID:15073-1781031600-1781035200@stnicholasofallon.org
SUMMARY:Parish Choir
DESCRIPTION:
URL:https://stnicholasofallon.org/event/parish-choir-5/
END:VEVENT
BEGIN:VEVENT
DTSTART;TZID=America/Chicago:20260610T151500
DTEND;TZID=America/Chicago:20260610T161500
DTSTAMP:20260424T074010
CREATED:20260312T200813Z
LAST-MODIFIED:20260318T203809Z
UID:15075-1781104500-1781108100@stnicholasofallon.org
SUMMARY:Children's Choir
DESCRIPTION:
URL:https://stnicholasofallon.org/event/childrens-choir-5/
END:VEVENT
BEGIN:VEVENT
DTSTART;TZID=America/Chicago:20260610T180000
DTEND;TZID=America/Chicago:20260610T190000
DTSTAMP:20260424T074010
CREATED:20260312T200813Z
LAST-MODIFIED:20260318T203809Z
UID:15076-1781114400-1781118000@stnicholasofallon.org
SUMMARY:Mass
DESCRIPTION:
URL:https://stnicholasofallon.org/event/mass-20/
END:VEVENT
BEGIN:VEVENT
DTSTART;TZID=America/Chicago:20260612T083000
DTEND;TZID=America/Chicago:20260612T093000
DTSTAMP:20260424T074010
CREATED:20260314T200811Z
LAST-MODIFIED:20260318T203809Z
UID:15084-1781253000-1781256600@stnicholasofallon.org
SUMMARY:Mass
DESCRIPTION:
URL:https://stnicholasofallon.org/event/mass-21/
END:VEVENT
BEGIN:VEVENT
DTSTART;TZID=America/Chicago:20260612T183000
DTEND;TZID=America/Chicago:20260612T193000
DTSTAMP:20260424T074010
CREATED:20260314T200811Z
LAST-MODIFIED:20260318T203809Z
UID:15085-1781289000-1781292600@stnicholasofallon.org
SUMMARY:Stations of the Cross
DESCRIPTION:
URL:https://stnicholasofallon.org/event/stations-of-the-cross-15/
END:VEVENT
BEGIN:VEVENT
DTSTART;TZID=America/Chicago:20260613T150000
DTEND;TZID=America/Chicago:20260613T160000
DTSTAMP:20260424T074010
CREATED:20260315T202316Z
LAST-MODIFIED:20260318T203810Z
UID:15089-1781362800-1781366400@stnicholasofallon.org
SUMMARY:Confession
DESCRIPTION:
URL:https://stnicholasofallon.org/event/confession-9/
END:VEVENT
BEGIN:VEVENT
DTSTART;TZID=America/Chicago:20260613T163000
DTEND;TZID=America/Chicago:20260613T173000
DTSTAMP:20260424T074010
CREATED:20260315T202316Z
LAST-MODIFIED:20260318T203810Z
UID:15090-1781368200-1781371800@stnicholasofallon.org
SUMMARY:Mass
DESCRIPTION:
URL:https://stnicholasofallon.org/event/mass-23/
END:VEVENT
BEGIN:VEVENT
DTSTART;TZID=America/Chicago:20260614T083000
DTEND;TZID=America/Chicago:20260614T093000
DTSTAMP:20260424T074010
CREATED:20260316T202313Z
LAST-MODIFIED:20260318T203810Z
UID:15097-1781425800-1781429400@stnicholasofallon.org
SUMMARY:Mass Live Stream
DESCRIPTION:on youtube
URL:https://stnicholasofallon.org/event/mass-live-stream-4/
END:VEVENT
BEGIN:VEVENT
DTSTART;TZID=America/Chicago:20260614T094500
DTEND;TZID=America/Chicago:20260614T104500
DTSTAMP:20260424T074010
CREATED:20260316T202314Z
LAST-MODIFIED:20260318T203810Z
UID:15098-1781430300-1781433900@stnicholasofallon.org
SUMMARY:Dialogue with The Word
DESCRIPTION:
URL:https://stnicholasofallon.org/event/dialogue-with-the-word-8/
END:VEVENT
BEGIN:VEVENT
DTSTART;TZID=America/Chicago:20260614T103000
DTEND;TZID=America/Chicago:20260614T113000
DTSTAMP:20260424T074010
CREATED:20260316T202314Z
LAST-MODIFIED:20260318T203810Z
UID:15099-1781433000-1781436600@stnicholasofallon.org
SUMMARY:Mass
DESCRIPTION:
URL:https://stnicholasofallon.org/event/mass-24/
END:VEVENT
BEGIN:VEVENT
DTSTART;TZID=America/Chicago:20260614T140000
DTEND;TZID=America/Chicago:20260614T170000
DTSTAMP:20260424T074010
CREATED:20260316T202314Z
LAST-MODIFIED:20260318T203810Z
UID:15100-1781445600-1781456400@stnicholasofallon.org
SUMMARY:Pickleball
DESCRIPTION:
URL:https://stnicholasofallon.org/event/pickleball-21/
END:VEVENT
BEGIN:VEVENT
DTSTART;TZID=America/Chicago:20260614T183000
DTEND;TZID=America/Chicago:20260614T193000
DTSTAMP:20260424T074010
CREATED:20260316T202314Z
LAST-MODIFIED:20260318T203810Z
UID:15101-1781461800-1781465400@stnicholasofallon.org
SUMMARY:High School Teen Ministry
DESCRIPTION:
URL:https://stnicholasofallon.org/event/high-school-teen-ministry-3/
END:VEVENT
BEGIN:VEVENT
DTSTART;TZID=America/Chicago:20260615T083000
DTEND;TZID=America/Chicago:20260615T093000
DTSTAMP:20260424T074010
CREATED:20260317T202316Z
LAST-MODIFIED:20260318T203810Z
UID:15110-1781512200-1781515800@stnicholasofallon.org
SUMMARY:Mass
DESCRIPTION:
URL:https://stnicholasofallon.org/event/mass-25/
END:VEVENT
BEGIN:VEVENT
DTSTART;TZID=America/Chicago:20260615T173000
DTEND;TZID=America/Chicago:20260615T183000
DTSTAMP:20260424T074010
CREATED:20260317T202316Z
LAST-MODIFIED:20260318T203810Z
UID:15111-1781544600-1781548200@stnicholasofallon.org
SUMMARY:St. Vincent de Paul Mtg
DESCRIPTION:
URL:https://stnicholasofallon.org/event/st-vincent-de-paul-mtg-6/
END:VEVENT
BEGIN:VEVENT
DTSTART;TZID=America/Chicago:20260616T081500
DTEND;TZID=America/Chicago:20260616T091500
DTSTAMP:20260424T074010
CREATED:20260318T203810Z
LAST-MODIFIED:20260318T203810Z
UID:15116-1781597700-1781601300@stnicholasofallon.org
SUMMARY:Mass at St. Clare School
DESCRIPTION:
URL:https://stnicholasofallon.org/event/mass-at-st-clare-school-13/
END:VEVENT
BEGIN:VEVENT
DTSTART;TZID=America/Chicago:20260616T180000
DTEND;TZID=America/Chicago:20260616T200000
DTSTAMP:20260424T074010
CREATED:20260318T203810Z
LAST-MODIFIED:20260318T203810Z
UID:15117-1781632800-1781640000@stnicholasofallon.org
SUMMARY:Pickleball
DESCRIPTION:
URL:https://stnicholasofallon.org/event/pickleball-24/
END:VEVENT
END:VCALENDAR